BEGIN:VCALENDAR
METHOD:PUBLISH
VERSION:2.0
PRODID:-//WoltLab GmbH//WoltLab Suite Calendar 5.4//EN
CALSCALE:GREGORIAN
X-WR-CALNAME;VALUE=TEXT:Gemeinde
BEGIN:VEVENT
TRANSP:OPAQUE
UID:event-81@la-aktuell.de
URL:https://la-aktuell.de/calendar/event/81-gottesdienst-am-dreil%C3%A4nder
 eck/
DTSTART:20140713T083000Z
DTSTAMP:20140713T083000Z
CREATED:20140713T083000Z
SUMMARY:Gottesdienst am Dreiländereck
DESCRIPTION:[xattach=245\,left]Stele am Dreiländereck[/xattach]Auch dieses 
 Jahr treffen sich wieder Mittelfranken\, Schwaben und Oberbayern zum gemein
 samen Gottesdienst im Dreiländereck.
LOCATION:Dreiländereck\, 91799 Langenaltheim\, Deutschland
GEO:48.8633385;10.9362745
DTEND:20140713T113000Z
CATEGORIES:Dreiländereck,Gottesdienst
END:VEVENT
BEGIN:VEVENT
TRANSP:TRANSPARENT
UID:event-83@la-aktuell.de
URL:https://la-aktuell.de/calendar/event/83-kirchweih-langenaltheim/
DTSTART;VALUE=DATE:20140704
DTSTAMP:20140704T000000Z
CREATED:20140704T000000Z
SUMMARY:Kirchweih Langenaltheim
DESCRIPTION:Kirchweih Langenaltheim auf dem Dorfplatz\, in allen Gasthäuser
 n und dem Zelt der Landjugend.
LOCATION:91799 Langenaltheim\, Deutschland
GEO:48.8987808;10.913125
DTEND;VALUE=DATE:20140708
CATEGORIES:Langenaltheim,Kirchweih
END:VEVENT
BEGIN:VEVENT
TRANSP:OPAQUE
UID:event-87@la-aktuell.de
URL:https://la-aktuell.de/calendar/event/87-nachtbadeevent/
DTSTART:20140808T150000Z
DTSTAMP:20140808T150000Z
CREATED:20140808T150000Z
SUMMARY:Nachtbadeevent
DESCRIPTION:[Blockierte Grafik: http://www.langenaltheim-aktuell.de/akut/20
 14/august/freibad.jpg]  \nUm die Attraktivität des Langenaltheimer Freibads
  weiter zu steigern\, soll am 08.08.2014  bis max. 23:00 Uhr eine verlänger
 te Bademöglichkeit\, ein sog. „Nachtbadeevent\" stattfinden (nur bei gutem 
 Wetter)\, evtl. auch an weiteren Freitagen bei entsprechender Witterung.\n\
 nAn diesem speziellen Tag wird es keinen Feierabendtarif geben.\n\nDas Beck
 en wird mit Scheinwerfern ausgeleuchtet.\n\nBei zweifelhaften Wetterverhält
 nissen erhalten Sie Auskunft unter: 09145/6969
LOCATION:Obere Hauptstraße 55\, 91799 Langenaltheim\, Deutschland
GEO:48.8934746;10.9200315
DTEND:20140808T210000Z
CATEGORIES:Langenaltheim,Freibad,Nachtbaden
END:VEVENT
BEGIN:VEVENT
TRANSP:TRANSPARENT
UID:event-88@la-aktuell.de
URL:https://la-aktuell.de/calendar/event/88-kirchweih-rehlingen/
DTSTART;VALUE=DATE:20141011
DTSTAMP:20141011T000000Z
CREATED:20141011T000000Z
SUMMARY:Kirchweih Rehlingen
DESCRIPTION:[xattach=285\,left][/xattach]Kirchweih in Rehlingen\n\nVeransta
 lter ist der\nSoldaten- u. Kameradschaftsverein Rehlingen
LOCATION:Maierhofstraße\, 91799 Langenaltheim\, Deutschland
GEO:48.9143448;10.8893938
DTEND;VALUE=DATE:20141014
CATEGORIES:Kirchweih,Rehlingen
END:VEVENT
BEGIN:VEVENT
TRANSP:OPAQUE
UID:event-89@la-aktuell.de
URL:https://la-aktuell.de/calendar/event/89-grenzumgang-rehlingen/
DTSTART:20141018T080000Z
DTSTAMP:20141018T080000Z
CREATED:20141018T080000Z
SUMMARY:Grenzumgang - Rehlingen
DESCRIPTION:[xattach=286\,left]Gasthaus Frankenhöhe (Mrasek)[/xattach]Grenz
 umgang im Rehlinger - Westen\n\nTreffpunkt: Abgang Gemeinschaftshalle\n\nEi
 nkehr: Gasthaus Frankenhöhe\, Haag 2
LOCATION:Rehlingen\, 91799 Langenaltheim\, Deutschland
GEO:48.9158325;10.8886108
DTEND:20141018T130000Z
CATEGORIES:Rehlingen,Grenzumgang
END:VEVENT
BEGIN:VEVENT
TRANSP:OPAQUE
UID:event-90@la-aktuell.de
URL:https://la-aktuell.de/calendar/event/90-grenzumgang-b%C3%BCttelbronn/
DTSTART:20141025T080000Z
DTSTAMP:20141025T080000Z
CREATED:20141025T080000Z
SUMMARY:Grenzumgang Büttelbronn
DESCRIPTION:[xattach=287\,left]Gasthof Rose Langenaltheim[/xattach]Grenzumg
 ang - Büttelbronner Osten\n\nTreffpunkt: Abgang Kreuzung Dorfstr./Kreisstr.
 \n\nEinkehr: Gasthaus Rose Langenaltheim
LOCATION:Dorfstraße 2\, 91799 Langenaltheim\, Deutschland
GEO:48.893219;10.8970289
DTEND:20141025T150000Z
CATEGORIES:Büttelbronn,Grenzumgang,Gasthof Rose
END:VEVENT
BEGIN:VEVENT
TRANSP:OPAQUE
UID:event-91@la-aktuell.de
URL:https://la-aktuell.de/calendar/event/91-grenzumgang-langenaltheim/
DTSTART:20141108T080000Z
DTSTAMP:20141108T080000Z
CREATED:20141108T080000Z
SUMMARY:Grenzumgang Langenaltheim
DESCRIPTION:[xattach=288\,left]Gasthaus Am Steinbrunnen Langenaltheim[/xatt
 ach]Grenzumgang Langenaltheim - Norden\n\nTreffpunkt: Abgang - Ehem. Firma 
 Glaudo \n\nEinkehr: Gasthaus - Am Steinbrunnen
LOCATION:Untere Haardt 8\, 91807 Solnhofen\, Deutschland
GEO:48.8845444;10.96947
DTEND:20141108T160000Z
CATEGORIES:Langenaltheim,Grenzumgang,Gasthaus am Steinbrunnen
END:VEVENT
BEGIN:VEVENT
TRANSP:OPAQUE
UID:event-95@la-aktuell.de
URL:https://la-aktuell.de/calendar/event/95-%C3%BCbergabe-feuerwehrauto-lan
 genaltheim/
DTSTART:20141102T080000Z
DTSTAMP:20141102T080000Z
CREATED:20141102T080000Z
SUMMARY:Übergabe Feuerwehrauto Langenaltheim
DESCRIPTION:[xattach=292\,left]Das Langenaltheimer Löschfahrzeug noch ohne 
 Beklebung[/xattach]Feierliche Übergabe des neuen Löschfahrzeuges an die Lan
 genaltheimer Feuerwehr.\n\n\n\n[box=blue]Veranstaltungsort ist die Mehrzwec
 khalle in Langenaltheim[/box]\n\n9:00 Uhr - Gottesdienst in der Mehrzweckha
 lle\n10:30 Uhr - Feierliche Übergabe des Löschfahrzeuges\n11:00 Uhr - Weißw
 urst - Frühschoppen\n12:00 Uhr - Mittagstisch\n14:00 Uhr - Verschieden Scha
 uübungen\nAb 14:00 Uhr - Kaffee und Kuchen \n\n[box=red]Musikalisch Umrahmt
  wird das ganze durch die Feuerwehrkapelle Langenaltheim[/box]\n\n[xattach=
 293\,left]Feuerwehrkapelle Langenaltheim[/xattach]
LOCATION:Rosengasse 9\, 91799 Langenaltheim\, Deutschland
GEO:48.8932152;10.9307814
DTEND:20141102T163000Z
CATEGORIES:Feuerwehrkapelle,Feuerwehr Langenaltheim,Mehrzweckhalle,Gemeinde
  Langenaltheim
END:VEVENT
BEGIN:VEVENT
TRANSP:OPAQUE
UID:event-96@la-aktuell.de
URL:https://la-aktuell.de/calendar/event/96-b%C3%BCrgerversammlung-langenal
 theim/
DTSTART:20141114T190000Z
DTSTAMP:20141114T190000Z
CREATED:20141114T190000Z
SUMMARY:Bürgerversammlung Langenaltheim
DESCRIPTION:[box=hex\,#ffd700]Die Bürgerversammlung 2014 findet im Gasthof 
 Rose statt.[/box]
LOCATION:Rosengasse 4\, 91799 Langenaltheim\, Deutschland
GEO:48.8930588;10.9301729
DTEND:20141114T220000Z
CATEGORIES:Bürgerversammlung
END:VEVENT
BEGIN:VEVENT
TRANSP:OPAQUE
UID:event-97@la-aktuell.de
URL:https://la-aktuell.de/calendar/event/97-b%C3%BCrgerversammlung-b%C3%BCt
 telbronn/
DTSTART:20141121T190000Z
DTSTAMP:20141121T190000Z
CREATED:20141121T190000Z
SUMMARY:Bürgerversammlung Büttelbronn
DESCRIPTION:[box=hex\,#ffa500]Die Bürgerversammlung in Büttelbronn\, findet
  im Gasthaus Lichtenwalder ( Laube ) statt.[/box]
LOCATION:Dorfstraße 24\, 91799 Langenaltheim\, Deutschland
GEO:48.8908005;10.897686
DTEND:20141121T220000Z
CATEGORIES:Büttelbronn,Bürgerversammlung
END:VEVENT
BEGIN:VEVENT
TRANSP:OPAQUE
UID:event-98@la-aktuell.de
URL:https://la-aktuell.de/calendar/event/98-b%C3%BCrgerversammlung-rehlinge
 n/
DTSTART:20141122T190000Z
DTSTAMP:20141122T190000Z
CREATED:20141122T190000Z
SUMMARY:Bürgerversammlung Rehlingen
DESCRIPTION:[box=hex\,#ffd700]Die Bürgerversammlung in Rehlingen findet in 
 der Gemeinschaftshalle statt.[/box]
LOCATION:Maierhofstraße 1\, 91799 Langenaltheim\, Deutschland
GEO:48.9153023;10.8864956
DTEND:20141122T220000Z
END:VEVENT
BEGIN:VEVENT
TRANSP:OPAQUE
UID:event-99@la-aktuell.de
URL:https://la-aktuell.de/calendar/event/99-volkstrauertag/
DTSTART:20141116T070000Z
DTSTAMP:20141116T070000Z
CREATED:20141116T070000Z
SUMMARY:Volkstrauertag
DESCRIPTION:[box=hex\,#ffd700]Der Volkstrauertag findet im Gedenken der Gef
 allenen\, Vermissten und durch Kriege ums Leben gekommene statt.\n\nTreffpu
 nkt der Vereine - 8:30 Uhr Mostplatz - 8:45 Uhr Gemeinsamer Marsch in die S
 t. Willibalds Kirche.\n\nGemeinsamer Marsch in den Friedhof - Aufstellung -
  9:45 Uhr Gemeindezentrum.[/box]\n\n  \n\n[box=hex\,#ffd700]Friedhof Rehlin
 gen um 8:30 Uhr\n\nFriedhof Büttelbronn um 11:00 Uhr[/box]
LOCATION:Friedhofstraße\, 91799 Langenaltheim\, Deutschland
GEO:48.8956604;10.9282627
DTEND:20141116T100000Z
CATEGORIES:Langenaltheim,Büttelbronn,Rehlingen,Volkstrauertag
END:VEVENT
BEGIN:VEVENT
TRANSP:OPAQUE
UID:event-101@la-aktuell.de
URL:https://la-aktuell.de/calendar/event/101-langenaltheimer-weihnachtsmark
 t/
DTSTART:20141206T150000Z
DTSTAMP:20141206T150000Z
CREATED:20141206T150000Z
SUMMARY:Langenaltheimer Weihnachtsmarkt
DESCRIPTION:[box=red]Langenaltheimer Weihnachtsmarkt im Gemeindezentrum[/bo
 x]\n\n16:00 Uhr Eröffnung - mit dem Posaunenchor\,\n1. Bürgermeister Alfred
  Maderer\nund\ndem Christkind mit seinen Engelchen\n16:30 Uhr - Bläserklass
 e u. Nachwuchsorchester\nder Feuerwehrkapelle\n17:15 Uhr - Vorführungen uns
 erer Schulkinder\n18:00 Uhr - Bläserklasse u. Nachwuchsorchester\nder Feuer
 wehrkapelle\n19:00 Uhr - Verlosung mit tollen Preisen ( Lose gibt es währen
 d der Veranstaltung zu kaufen)\n\n[box=hex\,#dc143c]Die Gemeinde Langenalth
 eim und alle teilnehmenden Vereine\, freuen sich auf ihren Besuch[/box]
LOCATION:Mostplatz 2\, 91799 Langenaltheim\, Deutschland
GEO:48.8947258;10.9300117
DTEND:20141206T190000Z
CATEGORIES:Weihnachtsmarkt
END:VEVENT
BEGIN:VEVENT
TRANSP:OPAQUE
UID:event-114@la-aktuell.de
URL:https://la-aktuell.de/calendar/event/116-kirchweih-b%C3%BCttelbronn-201
 5/
DTSTART:20150514T080000Z
DTSTAMP:20150514T080000Z
CREATED:20150514T080000Z
SUMMARY:Kirchweih Büttelbronn 2015
DESCRIPTION:[Blockierte Grafik: http://www.langenaltheim-aktuell.de/akut/20
 15/mai/kirchweih_buettelbronn_20151.png]  \n\n\n\n  \n\n Vatertag 14.05.201
 5 \n\n\n\nAb 10:00 Uhr traditioneller Frühschoppen in der TTC Halle. Zum Mi
 ttagessen stehen Grillspezialitäten\, Krautfleisch und die bekannten Bratwü
 rste bereit.\nAb ca. 17:00 Uhr werden die Gäste mit Live-Musik unterhalten.
 
LOCATION:Reitleweg\, 91799 Langenaltheim\, Deutschland
GEO:48.8963013;10.8967314
DTEND:20150517T215900Z
END:VEVENT
BEGIN:VEVENT
TRANSP:OPAQUE
UID:event-121@la-aktuell.de
URL:https://la-aktuell.de/calendar/event/123-weihnachtsmarkt/
DTSTART:20151205T150000Z
DTSTAMP:20151205T150000Z
CREATED:20151205T150000Z
SUMMARY:Weihnachtsmarkt
DESCRIPTION:Kleiner und feiner dörflicher Weihnachtsmarkt am Vorplatz bzw. 
 in der Scheune des Gemeindezentrums\, Mostplatz 2 mit umfangreichen Program
 mpunkten.\n\n\n  \n\n Weihnachtsmarkt 2014 Impressionen \n\n[album]9[/album
 ]
LOCATION:Mostpl. 2\, 91799 Langenaltheim\, Deutschland
GEO:48.8946838;10.9299536
DTEND:20151205T190000Z
CATEGORIES:Weihnachtsmarkt,Gemeindezentrum
END:VEVENT
BEGIN:VEVENT
TRANSP:OPAQUE
UID:event-188@la-aktuell.de
URL:https://la-aktuell.de/calendar/event/192-babybasar-langenaltheim/
DTSTART:20190330T153000Z
DTSTAMP:20190330T153000Z
CREATED:20190330T153000Z
SUMMARY:Babybasar Langenaltheim
DESCRIPTION:Einlass für Verkäufer 15.30 Uhr. Tischgebühr 5€.Tischreservieru
 ngen bei Bettina Huber 09145/839326
LOCATION:Rosengasse 9\, 91799 Langenaltheim\, Deutschland
GEO:48.8932762;10.9310198
DTEND:20190330T173000Z
CATEGORIES:Langenaltheim,Mehrzweckhalle,Babybasar
END:VEVENT
BEGIN:VEVENT
TRANSP:OPAQUE
UID:event-1146@la-aktuell.de
URL:https://la-aktuell.de/calendar/event/1150-b%C3%BCrgerversammlung-2025-i
 n-langenaltheim/
DTSTART:20250328T190000Z
DTSTAMP:20250328T190000Z
CREATED:20250328T190000Z
SUMMARY:Bürgerversammlung 2025 in Langenaltheim
DESCRIPTION:In den Versammlungen wird der Bürgermeister jeweils einen Überb
 lick über die Geschehnisse des abgelaufenen Jahres sowie einen Ausblick auf
  die neuen Vorhaben des Jahres geben.\nSelbstverständlich besteht im Vorfel
 d die Gelegenheit\, der Gemeindeverwaltung Anregungen und Fragen zukommen z
 u lassen\, die dann in der Versammlung beantwortet bzw. behandelt werden kö
 nnen.\n\nDies betrifft insbesondere Angelegenheiten\, die einer Vorklärung 
 bedürfen. Bei den Versammlungen werden nur Gemeindeangelegenheiten\, die vo
 n allgemeiner Bedeutung sind\, erörtert. In der Bürgerversammlung können gr
 undsätzlich nur Gemeindebürger das Wort erhalten.
LOCATION:Gasthof Rose
DTEND:20250328T220000Z
CATEGORIES:Langenaltheim,Bürgerversammlung
END:VEVENT
BEGIN:VEVENT
TRANSP:OPAQUE
UID:event-1147@la-aktuell.de
URL:https://la-aktuell.de/calendar/event/1151-b%C3%BCrgerversammlung-2025-i
 n-b%C3%BCttelbronn/
DTSTART:20250405T180000Z
DTSTAMP:20250405T180000Z
CREATED:20250405T180000Z
SUMMARY:Bürgerversammlung 2025 in Büttelbronn
DESCRIPTION:In den Versammlungen wird der Bürgermeister jeweils einen Überb
 lick über die Geschehnisse des abgelaufenen Jahres sowie einen Ausblick auf
  die neuen Vorhaben des Jahres geben.\nSelbstverständlich besteht im Vorfel
 d die Gelegenheit\, der Gemeindeverwaltung Anregungen und Fragen zukommen z
 u lassen\, die dann in der Versammlung beantwortet bzw. behandelt\nwerden k
 önnen.\n\nDies betrifft insbesondere Angelegenheiten\, die einer Vorklärung
  bedürfen. Bei den Versammlungen werden nur Gemeindeangelegenheiten\, die v
 on allgemeiner Bedeutung sind\, erörtert. In der Bürgerversammlung können g
 rundsätzlich nur Gemeindebürger das Wort erhalten.
LOCATION:Feuerwehrhaus - Dornäckerstraße 7
DTEND:20250405T210000Z
CATEGORIES:Langenaltheim,Büttelbronn,Bürgerversammlung,Feuerwehrhaus
END:VEVENT
BEGIN:VEVENT
TRANSP:OPAQUE
UID:event-1148@la-aktuell.de
URL:https://la-aktuell.de/calendar/event/1152-b%C3%BCrgerversammlung-2025-i
 n-rehlingen/
DTSTART:20250411T180000Z
DTSTAMP:20250411T180000Z
CREATED:20250411T180000Z
SUMMARY:Bürgerversammlung 2025 in Rehlingen
DESCRIPTION:In den Versammlungen wird der Bürgermeister jeweils einen Überb
 lick über die Geschehnisse des abgelaufenen Jahres sowie einen Ausblick auf
  die neuen Vorhaben des Jahres geben.\nSelbstverständlich besteht im Vorfel
 d die Gelegenheit\, der Gemeindeverwaltung Anregungen und Fragen zukommen z
 u lassen\, die dann in der Versammlung beantwortet bzw. behandelt\nwerden k
 önnen.\n\nDies betrifft insbesondere Angelegenheiten\, die einer Vorklärung
  bedürfen. Bei den Versammlungen werden nur Gemeindeangelegenheiten\, die v
 on allgemeiner Bedeutung sind\, erörtert. In der Bürgerversammlung können g
 rundsätzlich nur Gemeindebürger das Wort erhalten.
LOCATION:Gemeinschaftshalle
DTEND:20250411T210000Z
CATEGORIES:Langenaltheim,Rehlingen,Bürgerversammlung
END:VEVENT
BEGIN:VEVENT
TRANSP:OPAQUE
UID:event-1169@la-aktuell.de
URL:https://la-aktuell.de/calendar/event/1173-volkstrauertag/
DTSTART:20251116T074500Z
DTSTAMP:20251116T074500Z
CREATED:20251116T074500Z
SUMMARY:Volkstrauertag
DESCRIPTION:Zur Ehrung der Gefallenen\, Vermissten und der sonst durch Krie
 ge ums Leben Gekommenen soll wieder eine gemeinsame Gedenkfeier abgehalten 
 werden. Wir möchten Sie hierzu herzlich einladen.\n  Programm: \n\n08.45 Uh
 r Die Vereine sammeln sich mit Ihrer Vereinsfahne am Mostplatz.\n\nVon dort
  ziehen Sie gemeinsam zur Kirche\n\n09.00 Uhr Gedenkgottesdienst in der Wil
 libaldskirche\n\n10.00 Uhr Aufstellung der Vereine auf dem Mostplatz\n\nRei
 henfolge:\n\nMusikkapelle\, Feuerwehr\, Pfarrer u. Bürgermeister\, Gemeinde
 rat und Kirchenvorstand\, Militärverein\, VdK\, Schützenverein\, Sängerscha
 ft\, Turnverein\, Landjugend und Sanitätskolonne.\n\nAufstellung vor dem Ge
 fallenenehrenmal:\n\nrechts: Feuerwehr\, Militärverein\, VdK\, Landjugend\,
 \n\nlinks: Schützenverein\, Sängerschaft\, Turnverein u. Sanitätskolonne.\n
 \n\n\n Programm der Gedenkfeier: \n\nMusikstück der Feuerwehrkapelle.\n\nAn
 sprache des Bürgermeisters.\n\nVortrag eines Liedes durch die Sängerschaft.
 \n\nKranzniederlegung am Ehrenmal unter den Klängen des Liedes vom Guten Ka
 meraden mit drei Böllerschüssen.\n\nGebet des Geistlichen.\n\nAbschluss - C
 horal der Feuerwehrkapelle\n\nAbmarsch der Vereine\n\n\n\nWir bitten um zah
 lreiche Teilnahme.\n\nGemeinde Langenaltheim
DTEND:20251116T103000Z
CATEGORIES:Volkstrauertag
END:VEVENT
END:VCALENDAR
