BEGIN:VCALENDAR
METHOD:PUBLISH
VERSION:2.0
PRODID:-//WoltLab GmbH//WoltLab Suite Calendar 5.4//EN
CALSCALE:GREGORIAN
X-WR-CALNAME;VALUE=TEXT:Schulferien
BEGIN:VEVENT
TRANSP:TRANSPARENT
UID:event-128@la-aktuell.de
URL:https://la-aktuell.de/calendar/event/132-winterferien-2017-bayern/
DTSTART;VALUE=DATE:20170227
DTSTAMP:20170227T000000Z
CREATED:20170227T000000Z
SUMMARY:Winterferien 2017 Bayern
DESCRIPTION:Alle Termine auf http://www.schulferien.org
DTEND;VALUE=DATE:20170304
END:VEVENT
BEGIN:VEVENT
TRANSP:TRANSPARENT
UID:event-129@la-aktuell.de
URL:https://la-aktuell.de/calendar/event/133-osterferien-2017-bayern/
DTSTART;VALUE=DATE:20170410
DTSTAMP:20170410T000000Z
CREATED:20170410T000000Z
SUMMARY:Osterferien 2017 Bayern
DESCRIPTION:Alle Termine auf http://www.schulferien.org
DTEND;VALUE=DATE:20170423
END:VEVENT
BEGIN:VEVENT
TRANSP:TRANSPARENT
UID:event-130@la-aktuell.de
URL:https://la-aktuell.de/calendar/event/134-pfingstferien-2017-bayern/
DTSTART;VALUE=DATE:20170606
DTSTAMP:20170606T000000Z
CREATED:20170606T000000Z
SUMMARY:Pfingstferien 2017 Bayern
DESCRIPTION:Alle Termine auf http://www.schulferien.org
DTEND;VALUE=DATE:20170617
END:VEVENT
BEGIN:VEVENT
TRANSP:TRANSPARENT
UID:event-131@la-aktuell.de
URL:https://la-aktuell.de/calendar/event/135-sommerferien-2017-bayern/
DTSTART;VALUE=DATE:20170729
DTSTAMP:20170729T000000Z
CREATED:20170729T000000Z
SUMMARY:Sommerferien 2017 Bayern
DESCRIPTION:Alle Termine auf http://www.schulferien.org
DTEND;VALUE=DATE:20170912
END:VEVENT
BEGIN:VEVENT
TRANSP:TRANSPARENT
UID:event-132@la-aktuell.de
URL:https://la-aktuell.de/calendar/event/136-herbstferien-2017-bayern/
DTSTART;VALUE=DATE:20171030
DTSTAMP:20171030T000000Z
CREATED:20171030T000000Z
SUMMARY:Herbstferien 2017 Bayern
DESCRIPTION:Alle Termine auf http://www.schulferien.org
DTEND;VALUE=DATE:20171104
END:VEVENT
BEGIN:VEVENT
TRANSP:TRANSPARENT
UID:event-133@la-aktuell.de
URL:https://la-aktuell.de/calendar/event/137-herbstferien-2017-bayern/
DTSTART;VALUE=DATE:20171122
DTSTAMP:20171122T000000Z
CREATED:20171122T000000Z
SUMMARY:Herbstferien 2017 Bayern
DESCRIPTION:Alle Termine auf http://www.schulferien.org
DTEND;VALUE=DATE:20171123
END:VEVENT
BEGIN:VEVENT
TRANSP:TRANSPARENT
UID:event-134@la-aktuell.de
URL:https://la-aktuell.de/calendar/event/138-weihnachtsferien-2017-bayern/
DTSTART;VALUE=DATE:20171223
DTSTAMP:20171223T000000Z
CREATED:20171223T000000Z
SUMMARY:Weihnachtsferien 2017 Bayern
DESCRIPTION:Alle Termine auf http://www.schulferien.org
DTEND;VALUE=DATE:20180106
END:VEVENT
BEGIN:VEVENT
TRANSP:TRANSPARENT
UID:event-195@la-aktuell.de
URL:https://la-aktuell.de/calendar/event/199-osterferien-2019-bayern/
DTSTART;VALUE=DATE:20190415
DTSTAMP:20190415T000000Z
CREATED:20190415T000000Z
SUMMARY:Osterferien 2019 Bayern
DESCRIPTION:Alle Termine auf Schulferien.org - Ferien\, Feiertage\, Kalende
 r [URL:http://www.schulferien.org]
DTEND;VALUE=DATE:20190428
END:VEVENT
BEGIN:VEVENT
TRANSP:TRANSPARENT
UID:event-196@la-aktuell.de
URL:https://la-aktuell.de/calendar/event/200-pfingstferien-2019-bayern/
DTSTART;VALUE=DATE:20190611
DTSTAMP:20190611T000000Z
CREATED:20190611T000000Z
SUMMARY:Pfingstferien 2019 Bayern
DESCRIPTION:Alle Termine auf Schulferien.org - Ferien\, Feiertage\, Kalende
 r [URL:http://www.schulferien.org]
DTEND;VALUE=DATE:20190622
END:VEVENT
BEGIN:VEVENT
TRANSP:TRANSPARENT
UID:event-197@la-aktuell.de
URL:https://la-aktuell.de/calendar/event/201-herbstferien-2019-bayern/
DTSTART;VALUE=DATE:20191028
DTSTAMP:20191028T000000Z
CREATED:20191028T000000Z
SUMMARY:Herbstferien 2019 Bayern
DESCRIPTION:Alle Termine auf Schulferien.org - Ferien\, Feiertage\, Kalende
 r [URL:http://www.schulferien.org]
DTEND;VALUE=DATE:20191101
END:VEVENT
BEGIN:VEVENT
TRANSP:TRANSPARENT
UID:event-255@la-aktuell.de
URL:https://la-aktuell.de/calendar/event/259-winterferien-2020-bayern/
DTSTART;VALUE=DATE:20200224
DTSTAMP:20200224T000000Z
CREATED:20200224T000000Z
SUMMARY:Winterferien 2020 Bayern
DESCRIPTION:Alle Termine auf Schulferien.org - Ferien\, Feiertage\, Kalende
 r [URL:http://www.schulferien.org]
DTEND;VALUE=DATE:20200229
END:VEVENT
BEGIN:VEVENT
TRANSP:TRANSPARENT
UID:event-256@la-aktuell.de
URL:https://la-aktuell.de/calendar/event/260-osterferien-2020-bayern/
DTSTART;VALUE=DATE:20200406
DTSTAMP:20200406T000000Z
CREATED:20200406T000000Z
SUMMARY:Osterferien 2020 Bayern
DESCRIPTION:Alle Termine auf Schulferien.org - Ferien\, Feiertage\, Kalende
 r [URL:http://www.schulferien.org]
DTEND;VALUE=DATE:20200419
END:VEVENT
BEGIN:VEVENT
TRANSP:TRANSPARENT
UID:event-257@la-aktuell.de
URL:https://la-aktuell.de/calendar/event/261-pfingstferien-2020-bayern/
DTSTART;VALUE=DATE:20200602
DTSTAMP:20200602T000000Z
CREATED:20200602T000000Z
SUMMARY:Pfingstferien 2020 Bayern
DESCRIPTION:Alle Termine auf Schulferien.org - Ferien\, Feiertage\, Kalende
 r [URL:http://www.schulferien.org]
DTEND;VALUE=DATE:20200614
END:VEVENT
BEGIN:VEVENT
TRANSP:TRANSPARENT
UID:event-258@la-aktuell.de
URL:https://la-aktuell.de/calendar/event/262-herbstferien-2020-bayern/
DTSTART;VALUE=DATE:20201031
DTSTAMP:20201031T000000Z
CREATED:20201031T000000Z
SUMMARY:Herbstferien 2020 Bayern
DESCRIPTION:Alle Termine auf Schulferien.org - Ferien\, Feiertage\, Kalende
 r [URL:http://www.schulferien.org]
DTEND;VALUE=DATE:20201107
END:VEVENT
BEGIN:VEVENT
TRANSP:TRANSPARENT
UID:event-260@la-aktuell.de
URL:https://la-aktuell.de/calendar/event/264-weihnachtsferien-2020-bayern/
DTSTART;VALUE=DATE:20201223
DTSTAMP:20201223T000000Z
CREATED:20201223T000000Z
SUMMARY:Weihnachtsferien 2020 Bayern
DESCRIPTION:Alle Termine auf Schulferien.org - Ferien\, Feiertage\, Kalende
 r [URL:http://www.schulferien.org]
DTEND;VALUE=DATE:20210110
END:VEVENT
BEGIN:VEVENT
TRANSP:TRANSPARENT
UID:event-648@la-aktuell.de
URL:https://la-aktuell.de/calendar/event/652-winterferien-2021-bayern/
DTSTART;VALUE=DATE:20210215
DTSTAMP:20210215T000000Z
CREATED:20210215T000000Z
SUMMARY:Winterferien 2021 Bayern
DESCRIPTION:Winterferien wurden aufgrund der Coronapandemie gestrichen
DTEND;VALUE=DATE:20210220
STATUS:CANCELLED
END:VEVENT
BEGIN:VEVENT
TRANSP:TRANSPARENT
UID:event-649@la-aktuell.de
URL:https://la-aktuell.de/calendar/event/653-osterferien-2021-bayern/
DTSTART;VALUE=DATE:20210329
DTSTAMP:20210329T000000Z
CREATED:20210329T000000Z
SUMMARY:Osterferien 2021 Bayern
DESCRIPTION:Alle Termine auf http://www.schulferien.org
DTEND;VALUE=DATE:20210411
END:VEVENT
BEGIN:VEVENT
TRANSP:TRANSPARENT
UID:event-650@la-aktuell.de
URL:https://la-aktuell.de/calendar/event/654-pfingstferien-2021-bayern/
DTSTART;VALUE=DATE:20210525
DTSTAMP:20210525T000000Z
CREATED:20210525T000000Z
SUMMARY:Pfingstferien 2021 Bayern
DESCRIPTION:Alle Termine auf http://www.schulferien.org
DTEND;VALUE=DATE:20210605
END:VEVENT
BEGIN:VEVENT
TRANSP:TRANSPARENT
UID:event-651@la-aktuell.de
URL:https://la-aktuell.de/calendar/event/655-herbstferien-2021-bayern/
DTSTART;VALUE=DATE:20211102
DTSTAMP:20211102T000000Z
CREATED:20211102T000000Z
SUMMARY:Herbstferien 2021 Bayern
DESCRIPTION:Alle Termine auf http://www.schulferien.org
DTEND;VALUE=DATE:20211106
END:VEVENT
BEGIN:VEVENT
TRANSP:TRANSPARENT
UID:event-652@la-aktuell.de
URL:https://la-aktuell.de/calendar/event/656-herbstferien-2021-bayern/
DTSTART;VALUE=DATE:20211117
DTSTAMP:20211117T000000Z
CREATED:20211117T000000Z
SUMMARY:Herbstferien 2021 Bayern
DESCRIPTION:Alle Termine auf http://www.schulferien.org
DTEND;VALUE=DATE:20211118
END:VEVENT
BEGIN:VEVENT
TRANSP:TRANSPARENT
UID:event-653@la-aktuell.de
URL:https://la-aktuell.de/calendar/event/657-weihnachtsferien-2021-bayern/
DTSTART;VALUE=DATE:20211223
DTSTAMP:20211223T000000Z
CREATED:20211223T000000Z
SUMMARY:Weihnachtsferien 2021 Bayern
DESCRIPTION:Alle Termine auf http://www.schulferien.org
DTEND;VALUE=DATE:20220109
END:VEVENT
BEGIN:VEVENT
TRANSP:TRANSPARENT
UID:event-796@la-aktuell.de
URL:https://la-aktuell.de/calendar/event/800-winterferien-2022-bayern/
DTSTART;VALUE=DATE:20220228
DTSTAMP:20220228T000000Z
CREATED:20220228T000000Z
SUMMARY:Winterferien 2022 Bayern
DESCRIPTION:Alle Termine auf http://www.schulferien.org
DTEND;VALUE=DATE:20220305
END:VEVENT
BEGIN:VEVENT
TRANSP:TRANSPARENT
UID:event-797@la-aktuell.de
URL:https://la-aktuell.de/calendar/event/801-osterferien-2022-bayern/
DTSTART;VALUE=DATE:20220411
DTSTAMP:20220411T000000Z
CREATED:20220411T000000Z
SUMMARY:Osterferien 2022 Bayern
DESCRIPTION:Alle Termine auf http://www.schulferien.org
DTEND;VALUE=DATE:20220424
END:VEVENT
BEGIN:VEVENT
TRANSP:TRANSPARENT
UID:event-798@la-aktuell.de
URL:https://la-aktuell.de/calendar/event/802-pfingstferien-2022-bayern/
DTSTART;VALUE=DATE:20220607
DTSTAMP:20220607T000000Z
CREATED:20220607T000000Z
SUMMARY:Pfingstferien 2022 Bayern
DESCRIPTION:Alle Termine auf http://www.schulferien.org
DTEND;VALUE=DATE:20220619
END:VEVENT
BEGIN:VEVENT
TRANSP:TRANSPARENT
UID:event-799@la-aktuell.de
URL:https://la-aktuell.de/calendar/event/803-herbstferien-2022-bayern/
DTSTART;VALUE=DATE:20221031
DTSTAMP:20221031T000000Z
CREATED:20221031T000000Z
SUMMARY:Herbstferien 2022 Bayern
DESCRIPTION:Alle Termine auf http://www.schulferien.org
DTEND;VALUE=DATE:20221105
END:VEVENT
BEGIN:VEVENT
TRANSP:TRANSPARENT
UID:event-800@la-aktuell.de
URL:https://la-aktuell.de/calendar/event/804-herbstferien-2022-bayern/
DTSTART;VALUE=DATE:20221116
DTSTAMP:20221116T000000Z
CREATED:20221116T000000Z
SUMMARY:Herbstferien 2022 Bayern
DESCRIPTION:Alle Termine auf http://www.schulferien.org
DTEND;VALUE=DATE:20221117
END:VEVENT
BEGIN:VEVENT
TRANSP:TRANSPARENT
UID:event-801@la-aktuell.de
URL:https://la-aktuell.de/calendar/event/805-weihnachtsferien-2022-bayern/
DTSTART;VALUE=DATE:20221224
DTSTAMP:20221224T000000Z
CREATED:20221224T000000Z
SUMMARY:Weihnachtsferien 2022 Bayern
DESCRIPTION:Alle Termine auf http://www.schulferien.org
DTEND;VALUE=DATE:20230108
END:VEVENT
BEGIN:VEVENT
TRANSP:TRANSPARENT
UID:event-893@la-aktuell.de
URL:https://la-aktuell.de/calendar/event/897-winterferien-2023-bayern/
DTSTART;VALUE=DATE:20230220
DTSTAMP:20230220T000000Z
CREATED:20230220T000000Z
SUMMARY:Winterferien 2023 Bayern
DESCRIPTION:Alle Termine auf http://www.schulferien.org
DTEND;VALUE=DATE:20230225
END:VEVENT
BEGIN:VEVENT
TRANSP:TRANSPARENT
UID:event-894@la-aktuell.de
URL:https://la-aktuell.de/calendar/event/898-osterferien-2023-bayern/
DTSTART;VALUE=DATE:20230403
DTSTAMP:20230403T000000Z
CREATED:20230403T000000Z
SUMMARY:Osterferien 2023 Bayern
DESCRIPTION:Alle Termine auf http://www.schulferien.org
DTEND;VALUE=DATE:20230416
END:VEVENT
BEGIN:VEVENT
TRANSP:TRANSPARENT
UID:event-895@la-aktuell.de
URL:https://la-aktuell.de/calendar/event/899-pfingstferien-2023-bayern/
DTSTART;VALUE=DATE:20230530
DTSTAMP:20230530T000000Z
CREATED:20230530T000000Z
SUMMARY:Pfingstferien 2023 Bayern
DESCRIPTION:Alle Termine auf http://www.schulferien.org
DTEND;VALUE=DATE:20230610
END:VEVENT
BEGIN:VEVENT
TRANSP:TRANSPARENT
UID:event-896@la-aktuell.de
URL:https://la-aktuell.de/calendar/event/900-herbstferien-2023-bayern/
DTSTART;VALUE=DATE:20231030
DTSTAMP:20231030T000000Z
CREATED:20231030T000000Z
SUMMARY:Herbstferien 2023 Bayern
DESCRIPTION:Alle Termine auf http://www.schulferien.org
DTEND;VALUE=DATE:20231104
END:VEVENT
BEGIN:VEVENT
TRANSP:TRANSPARENT
UID:event-897@la-aktuell.de
URL:https://la-aktuell.de/calendar/event/901-herbstferien-2023-bayern/
DTSTART;VALUE=DATE:20231122
DTSTAMP:20231122T000000Z
CREATED:20231122T000000Z
SUMMARY:Herbstferien 2023 Bayern
DESCRIPTION:Alle Termine auf http://www.schulferien.org
DTEND;VALUE=DATE:20231123
END:VEVENT
BEGIN:VEVENT
TRANSP:TRANSPARENT
UID:event-898@la-aktuell.de
URL:https://la-aktuell.de/calendar/event/902-weihnachtsferien-2023-bayern/
DTSTART;VALUE=DATE:20231223
DTSTAMP:20231223T000000Z
CREATED:20231223T000000Z
SUMMARY:Weihnachtsferien 2023 Bayern
DESCRIPTION:Alle Termine auf http://www.schulferien.org
DTEND;VALUE=DATE:20240106
END:VEVENT
BEGIN:VEVENT
TRANSP:TRANSPARENT
UID:event-951@la-aktuell.de
URL:https://la-aktuell.de/calendar/event/955-winterferien-2024-bayern/
DTSTART;VALUE=DATE:20240212
DTSTAMP:20240212T000000Z
CREATED:20240212T000000Z
SUMMARY:Winterferien 2024 Bayern
DESCRIPTION:Alle Termine auf http://www.schulferien.org
DTEND;VALUE=DATE:20240217
END:VEVENT
BEGIN:VEVENT
TRANSP:TRANSPARENT
UID:event-952@la-aktuell.de
URL:https://la-aktuell.de/calendar/event/956-osterferien-2024-bayern/
DTSTART;VALUE=DATE:20240325
DTSTAMP:20240325T000000Z
CREATED:20240325T000000Z
SUMMARY:Osterferien 2024 Bayern
DESCRIPTION:Alle Termine auf http://www.schulferien.org
DTEND;VALUE=DATE:20240407
END:VEVENT
BEGIN:VEVENT
TRANSP:TRANSPARENT
UID:event-953@la-aktuell.de
URL:https://la-aktuell.de/calendar/event/957-pfingstferien-2024-bayern/
DTSTART;VALUE=DATE:20240521
DTSTAMP:20240521T000000Z
CREATED:20240521T000000Z
SUMMARY:Pfingstferien 2024 Bayern
DESCRIPTION:Alle Termine auf http://www.schulferien.org
DTEND;VALUE=DATE:20240602
END:VEVENT
BEGIN:VEVENT
TRANSP:TRANSPARENT
UID:event-954@la-aktuell.de
URL:https://la-aktuell.de/calendar/event/958-herbstferien-2024-bayern/
DTSTART;VALUE=DATE:20241028
DTSTAMP:20241028T000000Z
CREATED:20241028T000000Z
SUMMARY:Herbstferien 2024 Bayern
DESCRIPTION:Alle Termine auf http://www.schulferien.org
DTEND;VALUE=DATE:20241101
END:VEVENT
BEGIN:VEVENT
TRANSP:TRANSPARENT
UID:event-955@la-aktuell.de
URL:https://la-aktuell.de/calendar/event/959-bu%C3%9F-und-bettag-bayern/
DTSTART;VALUE=DATE:20241120
DTSTAMP:20241120T000000Z
CREATED:20241120T000000Z
SUMMARY:Buß und Bettag -  Bayern
DESCRIPTION:Buß- und Bettag - Schüler haben frei - Lehrer müssen arbeiten
DTEND;VALUE=DATE:20241121
END:VEVENT
BEGIN:VEVENT
TRANSP:TRANSPARENT
UID:event-956@la-aktuell.de
URL:https://la-aktuell.de/calendar/event/960-weihnachtsferien-2024-bayern/
DTSTART;VALUE=DATE:20241223
DTSTAMP:20241223T000000Z
CREATED:20241223T000000Z
SUMMARY:Weihnachtsferien 2024 Bayern
DESCRIPTION:Alle Termine auf http://www.schulferien.org
DTEND;VALUE=DATE:20250104
END:VEVENT
BEGIN:VEVENT
TRANSP:TRANSPARENT
UID:event-1049@la-aktuell.de
URL:https://la-aktuell.de/calendar/event/1053-winterferien-2025-bayern/
DTSTART;VALUE=DATE:20250303
DTSTAMP:20250303T000000Z
CREATED:20250303T000000Z
SUMMARY:Winterferien 2025 Bayern
DESCRIPTION:Alle Termine auf http://www.schulferien.org
DTEND;VALUE=DATE:20250308
END:VEVENT
BEGIN:VEVENT
TRANSP:TRANSPARENT
UID:event-1050@la-aktuell.de
URL:https://la-aktuell.de/calendar/event/1054-osterferien-2025-bayern/
DTSTART;VALUE=DATE:20250414
DTSTAMP:20250414T000000Z
CREATED:20250414T000000Z
SUMMARY:Osterferien 2025 Bayern
DESCRIPTION:Alle Termine auf http://www.schulferien.org
DTEND;VALUE=DATE:20250426
END:VEVENT
BEGIN:VEVENT
TRANSP:TRANSPARENT
UID:event-1051@la-aktuell.de
URL:https://la-aktuell.de/calendar/event/1055-pfingstferien-2025-bayern/
DTSTART;VALUE=DATE:20250610
DTSTAMP:20250610T000000Z
CREATED:20250610T000000Z
SUMMARY:Pfingstferien 2025 Bayern
DESCRIPTION:Alle Termine auf http://www.schulferien.org
DTEND;VALUE=DATE:20250621
END:VEVENT
BEGIN:VEVENT
TRANSP:TRANSPARENT
UID:event-1052@la-aktuell.de
URL:https://la-aktuell.de/calendar/event/1056-herbstferien-2025-bayern/
DTSTART;VALUE=DATE:20251103
DTSTAMP:20251103T000000Z
CREATED:20251103T000000Z
SUMMARY:Herbstferien 2025 Bayern
DESCRIPTION:Alle Termine auf http://www.schulferien.org
DTEND;VALUE=DATE:20251108
END:VEVENT
BEGIN:VEVENT
TRANSP:TRANSPARENT
UID:event-1053@la-aktuell.de
URL:https://la-aktuell.de/calendar/event/1057-herbstferien-2025-bayern/
DTSTART;VALUE=DATE:20251119
DTSTAMP:20251119T000000Z
CREATED:20251119T000000Z
SUMMARY:Herbstferien 2025 Bayern
DESCRIPTION:Alle Termine auf http://www.schulferien.org
DTEND;VALUE=DATE:20251120
END:VEVENT
BEGIN:VEVENT
TRANSP:TRANSPARENT
UID:event-1054@la-aktuell.de
URL:https://la-aktuell.de/calendar/event/1058-weihnachtsferien-2025-bayern/
DTSTART;VALUE=DATE:20251222
DTSTAMP:20251222T000000Z
CREATED:20251222T000000Z
SUMMARY:Weihnachtsferien 2025 Bayern
DESCRIPTION:Alle Termine auf http://www.schulferien.org
DTEND;VALUE=DATE:20260106
END:VEVENT
BEGIN:VEVENT
TRANSP:TRANSPARENT
UID:event-1260@la-aktuell.de
URL:https://la-aktuell.de/calendar/event/1264-winterferien-2026-bayern/
DTSTART;VALUE=DATE:20260216
DTSTAMP:20260216T000000Z
CREATED:20260216T000000Z
SUMMARY:Winterferien 2026 Bayern
DESCRIPTION:Alle Termine auf http://www.schulferien.org
DTEND;VALUE=DATE:20260221
END:VEVENT
BEGIN:VEVENT
TRANSP:TRANSPARENT
UID:event-1261@la-aktuell.de
URL:https://la-aktuell.de/calendar/event/1265-osterferien-2026-bayern/
DTSTART;VALUE=DATE:20260330
DTSTAMP:20260330T000000Z
CREATED:20260330T000000Z
SUMMARY:Osterferien 2026 Bayern
DESCRIPTION:Alle Termine auf http://www.schulferien.org
DTEND;VALUE=DATE:20260411
END:VEVENT
BEGIN:VEVENT
TRANSP:TRANSPARENT
UID:event-1262@la-aktuell.de
URL:https://la-aktuell.de/calendar/event/1266-pfingstferien-2026-bayern/
DTSTART;VALUE=DATE:20260526
DTSTAMP:20260526T000000Z
CREATED:20260526T000000Z
SUMMARY:Pfingstferien 2026 Bayern
DESCRIPTION:Alle Termine auf http://www.schulferien.org
DTEND;VALUE=DATE:20260606
END:VEVENT
BEGIN:VEVENT
TRANSP:TRANSPARENT
UID:event-1263@la-aktuell.de
URL:https://la-aktuell.de/calendar/event/1267-herbstferien-2026-bayern/
DTSTART;VALUE=DATE:20261102
DTSTAMP:20261102T000000Z
CREATED:20261102T000000Z
SUMMARY:Herbstferien 2026 Bayern
DESCRIPTION:Alle Termine auf http://www.schulferien.org
DTEND;VALUE=DATE:20261107
END:VEVENT
BEGIN:VEVENT
TRANSP:TRANSPARENT
UID:event-1264@la-aktuell.de
URL:https://la-aktuell.de/calendar/event/1268-herbstferien-2026-bayern/
DTSTART;VALUE=DATE:20261118
DTSTAMP:20261118T000000Z
CREATED:20261118T000000Z
SUMMARY:Herbstferien 2026 Bayern
DESCRIPTION:Alle Termine auf http://www.schulferien.org
DTEND;VALUE=DATE:20261119
END:VEVENT
BEGIN:VEVENT
TRANSP:TRANSPARENT
UID:event-1265@la-aktuell.de
URL:https://la-aktuell.de/calendar/event/1269-weihnachtsferien-2026-bayern/
DTSTART;VALUE=DATE:20261224
DTSTAMP:20261224T000000Z
CREATED:20261224T000000Z
SUMMARY:Weihnachtsferien 2026 Bayern
DESCRIPTION:Alle Termine auf http://www.schulferien.org
DTEND;VALUE=DATE:20270109
END:VEVENT
END:VCALENDAR
