BEGIN:VCALENDAR
METHOD:PUBLISH
VERSION:2.0
PRODID:-//WoltLab GmbH//WoltLab Suite Calendar 5.4//EN
CALSCALE:GREGORIAN
X-WR-CALNAME;VALUE=TEXT:Party
BEGIN:VEVENT
TRANSP:OPAQUE
UID:event-1@la-aktuell.de
URL:https://la-aktuell.de/calendar/event/1-plattenparty-in-langenaltheim/
DTSTART:20140920T140000Z
DTSTAMP:20140920T140000Z
CREATED:20140920T140000Z
SUMMARY:Plattenparty in Langenaltheim
DESCRIPTION:Auf geht's in die 4 Runde...\n\nDJ El Mar bringt LA zum kochen!
 !!\n\nACHTUNG!!!\nDieses Jahr zum vorteil unsere unter 18 Jährigen(Da die N
 achfrage groß war  \;)  - der DJ wird im 16.Bereich sein bzw die Tanzfläche
  auch !!  :D \n\n\nVor der Plattenparty findet wie auch im letzten Jahr ein
  Bierpongtunier statt\, das gemeinsam mit dem BPC Franken ausgetragen wird.
 \n\nIm Zelt kann an der 25 meter Bar samt der genialen Lichtershow abgetanz
 t werden.\n\nFür Essen ist selbstverständlich gesorgt.\n\nEintritt ab 16 Ja
 hren!\nAufsichtszettel sind erlaubt.\n\nBierpongtunier:\nAnmeldung ab 16 Uh
 r\nSpielbeginn ca 17 Uhr\n\n[map]Obere Hauptstraße 55\, 91799 Langenaltheim
 \, Deutschland[/map]
LOCATION:WUG7\, 91799 Langenaltheim\, Deutschland
GEO:48.8932228;10.9185724
DTEND:20140921T010000Z
CATEGORIES:Langenaltheim,Plattenparty,LA,DJ El Mar
END:VEVENT
BEGIN:VEVENT
TRANSP:OPAQUE
UID:event-76@la-aktuell.de
URL:https://la-aktuell.de/calendar/event/76-plattenparty-b%C3%BCttelbronn/
DTSTART:20140608T190000Z
DTSTAMP:20140608T190000Z
CREATED:20140608T190000Z
SUMMARY:Plattenparty Büttelbronn
DESCRIPTION:[Blockierte Grafik: http://www.langenaltheim-aktuell.de/akut/20
 14/mai/party1.png]\n\nAlljährliche Plattenparty nach dem Fussballtunier in 
 Büttelbronn am Sportplatz!\n\nDas Fussballtunier beginnt um 10:00\n\n Auf E
 uer kommen freut sich der Jura Büttelbronn  :) \n \n Auf der Plattenparty -
  KEIN Eintritt unter 16 Jahren\, unter 18 Jahren mit Aufsichtszettel !
LOCATION:Stockigweg 16\, 91799 Langenaltheim\, Deutschland
GEO:48.8963432;10.8967714
DTEND:20140609T013000Z
CATEGORIES:Plattenparty,Büttelbronn
END:VEVENT
BEGIN:VEVENT
TRANSP:OPAQUE
UID:event-115@la-aktuell.de
URL:https://la-aktuell.de/calendar/event/117-plattenparty-b%C3%BCttelbronn/
DTSTART:20150524T180000Z
DTSTAMP:20150524T180000Z
CREATED:20150524T180000Z
SUMMARY:Plattenparty Büttelbronn
DESCRIPTION:
LOCATION:Reitleweg\, 91799 Langenaltheim\, Deutschland
GEO:48.8962936;10.8967819
DTEND:20150525T020000Z
CATEGORIES:Plattenparty,Büttelbronn
END:VEVENT
BEGIN:VEVENT
TRANSP:OPAQUE
UID:event-275@la-aktuell.de
URL:https://la-aktuell.de/calendar/event/279-rocktober-party-im-gasthaus-zu
 m-lamm/
DTSTART:20191012T190000Z
DTSTAMP:20191012T190000Z
CREATED:20191012T190000Z
SUMMARY:Rocktober Party im Gasthaus zum Lamm
DESCRIPTION:Rocktober Party im Gasthaus zum Lamm
LOCATION:Obere Hauptstraße 11\, 91799 Langenaltheim\, Deutschland
GEO:48.8936806;10.9275446
DTEND:20191013T030000Z
CATEGORIES:Langenaltheim,Musik,Rocktober,Party,DJ,Rock,Metal,Alternative,Zu
 m Lamm
END:VEVENT
BEGIN:VEVENT
TRANSP:OPAQUE
UID:event-1163@la-aktuell.de
URL:https://la-aktuell.de/calendar/event/1167-battlefield-pre-alpha-server-
 performance-test-on-pc/
DTSTART:20250524T100000Z
DTSTAMP:20250524T100000Z
CREATED:20250524T100000Z
SUMMARY:Battlefield Pre-Alpha Server Performance Test on PC
DTEND:20250526T100000Z
END:VEVENT
END:VCALENDAR
