BEGIN:VCALENDAR
METHOD:PUBLISH
VERSION:2.0
PRODID:-//WoltLab GmbH//WoltLab Suite Calendar 5.4//EN
CALSCALE:GREGORIAN
X-WR-CALNAME;VALUE=TEXT:braune Biotonne
BEGIN:VEVENT
TRANSP:TRANSPARENT
UID:event-1065@la-aktuell.de
URL:https://la-aktuell.de/calendar/event/1069-braune-biotonne/
DTSTART;VALUE=DATE:20250219
DTSTAMP:20250219T000000Z
CREATED:20250219T000000Z
SUMMARY:braune Biotonne
DESCRIPTION:braune Biotonne nicht vergessen!
LOCATION:Langenaltheim
DTEND;VALUE=DATE:20250220
END:VEVENT
END:VCALENDAR
