BEGIN:VCALENDAR
METHOD:PUBLISH
VERSION:2.0
PRODID:-//WoltLab GmbH//WoltLab Suite Calendar 5.4//EN
CALSCALE:GREGORIAN
X-WR-CALNAME;VALUE=TEXT:Neujahr
BEGIN:VEVENT
TRANSP:TRANSPARENT
UID:event-11@la-aktuell.de
URL:https://la-aktuell.de/calendar/event/11-neujahr/
DTSTART;VALUE=DATE:20140101
DTSTAMP:20140101T000000Z
CREATED:20140101T000000Z
SUMMARY:Neujahr
DESCRIPTION:gesetzlicher Feiertag in Baden-Württemberg\, Bayern\, Berlin\, 
 Brandenburg\, Bremen\, Hamburg\, Hessen\, Mecklenburg-Vorpommern\, Niedersa
 chsen\, Nordrhein-Westfalen\, Rheinland-Pfalz\, Saarland\, Sachsen\, Sachse
 n-Anhalt\, Schleswig-Holstein\, Thüringen
END:VEVENT
END:VCALENDAR
