BEGIN:VCALENDAR
METHOD:PUBLISH
VERSION:2.0
PRODID:-//WoltLab GmbH//WoltLab Suite Calendar 5.4//EN
CALSCALE:GREGORIAN
X-WR-CALNAME;VALUE=TEXT:Fischer-\, Schützen- und Jägerflohmarkt
BEGIN:VEVENT
TRANSP:OPAQUE
UID:event-113@la-aktuell.de
URL:https://la-aktuell.de/calendar/event/115-fischer-sch%C3%BCtzen-und-j%C3
 %A4gerflohmarkt/
DTSTART:20150503T070000Z
DTSTAMP:20150503T070000Z
CREATED:20150503T070000Z
SUMMARY:Fischer-\, Schützen- und Jägerflohmarkt
DESCRIPTION:Eingeladen sind alle Jäger\, Fischer\, Jagdfreunde und Schützen
 \, die schon lange eine Möglichkeit suchen\, ihren überzähligen Bestand an 
 Jagdzubehör\, Angelutensilien und Jagdwaffen zu verkleinern. \n\n\n\n  \n\n
  Hofgut Bäldleschwaige \n\n\n\nInfotelefon: 09070 217\nHinweis Auch für Kin
 der bis 12 Jahre geeignet\nEintrittspreise\nEintritt frei\nAnmeldung ist er
 forderlich! \n\n\n  \n\n Aussteller können Ihren eigenen Stand mitbringen\,
  auf Wunsch werden Tische zur Verfügung gestellt. Es ist ausreichend überda
 chter Platz vorhanden und keine Standgebühr fällig. Standanmeldung bitte un
 ter Tel. 09070/217 Zusätzlich: Frühschoppen mit den Strawanzern (11 Uhr) un
 d Tanz mit Micados (16 Uhr)
LOCATION:Böldleschwaige 1\, 86660 Tapfheim\, Deutschland
GEO:48.6567345;10.7254257
DTEND:20150503T150000Z
CATEGORIES:Schützenverein,Jäger,Fischer
END:VEVENT
END:VCALENDAR
