BEGIN:VCALENDAR
METHOD:PUBLISH
VERSION:2.0
PRODID:-//WoltLab GmbH//WoltLab Suite Calendar 5.4//EN
CALSCALE:GREGORIAN
X-WR-CALNAME;VALUE=TEXT:Energiegenossenschaft Langenaltheim - Generalversam
 mlung
BEGIN:VEVENT
TRANSP:OPAQUE
UID:event-116@la-aktuell.de
URL:https://la-aktuell.de/calendar/event/118-energiegenossenschaft-langenal
 theim-generalversammlung/
DTSTART:20150625T180000Z
DTSTAMP:20150625T180000Z
CREATED:20150625T180000Z
SUMMARY:Energiegenossenschaft Langenaltheim - Generalversammlung
DESCRIPTION:am 25.06.2015 um 20.00 Uhr\nim Gasthaus „zur Rose“\, Rosengasse
  in 91799 Langenaltheim
LOCATION:Rosengasse 8\, 91799 Langenaltheim\, Deutschland
GEO:48.8930244;10.9310637
DTEND:20150625T210000Z
CATEGORIES:Generalversammlung
END:VEVENT
END:VCALENDAR
