BEGIN:VCALENDAR
METHOD:PUBLISH
VERSION:2.0
PRODID:-//WoltLab GmbH//WoltLab Suite Calendar 5.4//EN
CALSCALE:GREGORIAN
X-WR-CALNAME;VALUE=TEXT:Freiwild - PSD Bank Nürnberg ARENA
BEGIN:VEVENT
TRANSP:OPAQUE
UID:event-1166@la-aktuell.de
URL:https://la-aktuell.de/calendar/event/1170-freiwild-psd-bank-n%C3%BCrnbe
 rg-arena/
DTSTART:20260516T170000Z
DTSTAMP:20260516T170000Z
CREATED:20260516T170000Z
SUMMARY:Freiwild - PSD Bank Nürnberg ARENA
DESCRIPTION:Sie sind zurück. Lauter\, klarer\, leidenschaftlicher denn je –
  stets unter Feuer! Frei.Wild schlagen jetzt zum nächsten\, vielleicht vehe
 mentesten Kapitel ihrer Bandgeschichte auf. Geprägt von persönlichen Erlebn
 issen und gemeinsamen Erfahrungen\, mit Schärfe kommentiert. Das neueste St
 udioalbum ist laut Frei.Wild ein Manifest für alle\, die mit ganzem Herzen 
 brennen. Schon die erste Single entfacht mit dem Titeltrack ein Feuer volle
 r Kraft\, Emotion und Hoffnung – ein wuchtiger Mix aus hartem Deutschrock u
 nd Gänsehaut-Balladen. Songs und Stories\, die Mut machen\, Grenzen überwin
 den\, Brücken bauen. Mit Haltung\, Tiefe und der Freiheit\, auch unbequem z
 u sein. 2x12 brandneue Songs bündelt das Doppel-Album inkl. 32-Seiten Bookl
 et mit allen Texten\, Band-Fotos und Insider-Infos. Das nummerierte Box-Set
  wird von Frei.Wild mit sechs weiteren\, exklusiven Tracks aufgewertet. Wer
  aufs Streaming hofft\, wird wohl sehr\, sehr lange warten müssen … falls d
 iese überhaupt den Weg auf digitale Plattformen finden.\n\nSeit über 20 Jah
 ren zeigen die Südtiroler\, dass man mit Haltung und klarer Kante viel bewe
 gen kann. Vom Proberaum im Kinderdorf bis an die Chartspitze halten Frei.Wi
 ld ihren Kurs. „Immer unter Feuer“ ist Dank und Impuls an alle\, die fürein
 ander brennen. Frei.Wild Songs sind unbeugsam\, nennen die Dinge beim Namen
 . Geliebt oder kontrovers\, die Rock-Revoluzzer aus dem Grenzland polarisie
 ren. Frei.Wild bezieht seine ungezähmte Energie aus ihrer Heimat\, den Fami
 lien\, der Freundschaft. Gewachsen im Schmelztiegel von Kulturen\, Traditio
 nen und Geschichte haben sie ihre ganz eigene Prägung erhalten.\n\nFrei.Wil
 d und ihr Frontmann Philipp Burger haben sich bereits seit Jahrzehnten von 
 frühen Fehlern und Jugendsünden distanziert\, die ihnen trotzdem immer wied
 er zum Vorwurf gemacht worden sind. Dabei haben sie sich ohne Wenn und Aber
  zu demokratischen Prinzipien bekannt und offen gegen extremistische Haltun
 gen\, Rassismus und Antisemitismus Stellung bezogen. Auf der Bühne\, in Büc
 hern\, in Diskussionen hat Philipp Burger stets unter Beweis gestellt\, wie
  ernst es ihm mit seiner Selbstkritik und der daraus folgenden Aufarbeitung
  seiner Jugendzeit ist. Dennoch verweigern ihm zuweilen gerade die eine zwe
 ite Chance\, die vorgeben\, Toleranz und demokratischen Umgang auf ihre Fah
 nen geschrieben zu haben.\n\n„Immer unter Feuer“ trägt das Album das Geweih
  so stark wie nie! Mit ihrem neuen Touring Partner LIVE NATION präsentiert 
 sich Frei.Wild im Mai 2026 in den größten Arenen Deutschlands. Die Fans in 
 Österreich und der Schweiz erwarten ebenfalls fette Stage-Shows. Der Vorver
 kauf für Album + Live Tour startet am 09. Mai. Frei.Wild – „Immer unter Feu
 er“.\n\nDas Album. Die Tour. Ein Versprechen und ein Appell an alle\, die d
 as Feuer fühlen.\n\nhttps://shops.ticketmasterpartners.com/freiwild-hardtic
 kets\n\n https://www.youtube.com/watch?v=LaU7NTsvmWI
LOCATION:Kurt-Leucht-Weg 11 90471 Nürnberg\, Deutschland
GEO:49.4542885;11.074564
DTEND:20260516T210000Z
END:VEVENT
END:VCALENDAR
