BEGIN:VCALENDAR
METHOD:PUBLISH
VERSION:2.0
PRODID:-//WoltLab GmbH//WoltLab Suite Calendar 5.4//EN
CALSCALE:GREGORIAN
X-WR-CALNAME;VALUE=TEXT:Kirchweih Markt Mörnsheim
BEGIN:VEVENT
TRANSP:OPAQUE
UID:event-119@la-aktuell.de
URL:https://la-aktuell.de/calendar/event/121-kirchweih-markt-m%C3%B6rnsheim
 /
DTSTART:20151016T160000Z
DTSTAMP:20151016T160000Z
CREATED:20151016T160000Z
SUMMARY:Kirchweih Markt Mörnsheim
DESCRIPTION:Kirchweihprogramm in Mörnsheim. Karten für die \"Mühschossbuam\
 " gibt's in der Gemeinde.
LOCATION:Brunnenpl. 1\, 91804 Mörnsheim\, Deutschland
GEO:48.8694649;11.0073376
DTEND:20151019T170000Z
CATEGORIES:Kirchweih,Mörnsheim
END:VEVENT
END:VCALENDAR
