BEGIN:VCALENDAR
METHOD:PUBLISH
VERSION:2.0
PRODID:-//WoltLab GmbH//WoltLab Suite Calendar 5.4//EN
CALSCALE:GREGORIAN
X-WR-CALNAME;VALUE=TEXT:Allerheiligen
BEGIN:VEVENT
TRANSP:TRANSPARENT
UID:event-1277@la-aktuell.de
URL:https://la-aktuell.de/calendar/event/1281-allerheiligen/
DTSTART;VALUE=DATE:20261101
DTSTAMP:20261101T000000Z
CREATED:20261101T000000Z
SUMMARY:Allerheiligen
DESCRIPTION:Alle Termine auf http://www.schulferien.org
DTEND;VALUE=DATE:20261102
END:VEVENT
END:VCALENDAR
