BEGIN:VCALENDAR
METHOD:PUBLISH
VERSION:2.0
PRODID:-//WoltLab GmbH//WoltLab Suite Calendar 5.4//EN
CALSCALE:GREGORIAN
X-WR-CALNAME;VALUE=TEXT:1. Weihnachtsfeiertag
BEGIN:VEVENT
TRANSP:TRANSPARENT
UID:event-1278@la-aktuell.de
URL:https://la-aktuell.de/calendar/event/1282-1-weihnachtsfeiertag/
DTSTART;VALUE=DATE:20261225
DTSTAMP:20261225T000000Z
CREATED:20261225T000000Z
SUMMARY:1. Weihnachtsfeiertag
DESCRIPTION:Alle Termine auf http://www.schulferien.org
DTEND;VALUE=DATE:20261226
END:VEVENT
END:VCALENDAR
