BEGIN:VCALENDAR
METHOD:PUBLISH
VERSION:2.0
PRODID:-//WoltLab GmbH//WoltLab Suite Calendar 5.4//EN
CALSCALE:GREGORIAN
X-WR-CALNAME;VALUE=TEXT:Pfingstferien 2017 Bayern
BEGIN:VEVENT
TRANSP:TRANSPARENT
UID:event-130@la-aktuell.de
URL:https://la-aktuell.de/calendar/event/134-pfingstferien-2017-bayern/
DTSTART;VALUE=DATE:20170606
DTSTAMP:20170606T000000Z
CREATED:20170606T000000Z
SUMMARY:Pfingstferien 2017 Bayern
DESCRIPTION:Alle Termine auf http://www.schulferien.org
DTEND;VALUE=DATE:20170617
END:VEVENT
END:VCALENDAR
