BEGIN:VCALENDAR
METHOD:PUBLISH
VERSION:2.0
PRODID:-//WoltLab GmbH//WoltLab Suite Calendar 5.4//EN
CALSCALE:GREGORIAN
X-WR-CALNAME;VALUE=TEXT:Kirchweih in Graben
BEGIN:VEVENT
TRANSP:TRANSPARENT
UID:event-135@la-aktuell.de
URL:https://la-aktuell.de/calendar/event/139-kirchweih-in-graben/
DTSTART;VALUE=DATE:20170428
DTSTAMP:20170428T000000Z
CREATED:20170428T000000Z
SUMMARY:Kirchweih in Graben
LOCATION:Graben\, 91757 Treuchtlingen\, Deutschland
GEO:48.9828796;10.9200478
DTEND;VALUE=DATE:20170501
CATEGORIES:Kirchweih,Volksfes
END:VEVENT
END:VCALENDAR
