BEGIN:VCALENDAR
METHOD:PUBLISH
VERSION:2.0
PRODID:-//WoltLab GmbH//WoltLab Suite Calendar 5.4//EN
CALSCALE:GREGORIAN
X-WR-CALNAME;VALUE=TEXT:Kirchweih Geislohe
BEGIN:VEVENT
TRANSP:TRANSPARENT
UID:event-142@la-aktuell.de
URL:https://la-aktuell.de/calendar/event/146-kirchweih-geislohe/
DTSTART;VALUE=DATE:20170505
DTSTAMP:20170505T000000Z
CREATED:20170505T000000Z
SUMMARY:Kirchweih Geislohe
LOCATION:Geislohe\, 91788 Pappenheim\, Deutschland
GEO:48.9639587;10.9844189
DTEND;VALUE=DATE:20170510
CATEGORIES:Kirchweih,Volksfest,Geislohe
END:VEVENT
END:VCALENDAR
