BEGIN:VCALENDAR
METHOD:PUBLISH
VERSION:2.0
PRODID:-//WoltLab GmbH//WoltLab Suite Calendar 5.4//EN
CALSCALE:GREGORIAN
X-WR-CALNAME;VALUE=TEXT:Kirchweih in Oberhochstatt
BEGIN:VEVENT
TRANSP:TRANSPARENT
UID:event-154@la-aktuell.de
URL:https://la-aktuell.de/calendar/event/158-kirchweih-in-oberhochstatt/
DTSTART;VALUE=DATE:20170629
DTSTAMP:20170629T000000Z
CREATED:20170629T000000Z
SUMMARY:Kirchweih in Oberhochstatt
LOCATION:Oberhochstatt\, 91781 Weißenburg in Bayern\, Deutschland
GEO:49.0304718;11.0490303
DTEND;VALUE=DATE:20170704
CATEGORIES:Kirchweih,Oberhochstatt
END:VEVENT
END:VCALENDAR
