BEGIN:VCALENDAR
METHOD:PUBLISH
VERSION:2.0
PRODID:-//WoltLab GmbH//WoltLab Suite Calendar 5.4//EN
CALSCALE:GREGORIAN
X-WR-CALNAME;VALUE=TEXT:Kirchweih in Stirn
BEGIN:VEVENT
TRANSP:TRANSPARENT
UID:event-157@la-aktuell.de
URL:https://la-aktuell.de/calendar/event/161-kirchweih-in-stirn/
DTSTART;VALUE=DATE:20170630
DTSTAMP:20170630T000000Z
CREATED:20170630T000000Z
SUMMARY:Kirchweih in Stirn
LOCATION:Stirn\, 91785 Pleinfeld\, Deutschland
GEO:49.143425;10.9777737
DTEND;VALUE=DATE:20170704
CATEGORIES:Kirchweih,Stirn
END:VEVENT
END:VCALENDAR
