BEGIN:VCALENDAR
METHOD:PUBLISH
VERSION:2.0
PRODID:-//WoltLab GmbH//WoltLab Suite Calendar 5.4//EN
CALSCALE:GREGORIAN
X-WR-CALNAME;VALUE=TEXT:Volksfest in Treuchtlingen
BEGIN:VEVENT
TRANSP:TRANSPARENT
UID:event-161@la-aktuell.de
URL:https://la-aktuell.de/calendar/event/165-volksfest-in-treuchtlingen/
DTSTART;VALUE=DATE:20170707
DTSTAMP:20170707T000000Z
CREATED:20170707T000000Z
SUMMARY:Volksfest in Treuchtlingen
LOCATION:Kanalstraße 43B\, 91757 Treuchtlingen\, Deutschland
GEO:48.9528465;10.9119482
DTEND;VALUE=DATE:20170717
CATEGORIES:Treuchtlingen,Volkfest
END:VEVENT
END:VCALENDAR
