BEGIN:VCALENDAR
METHOD:PUBLISH
VERSION:2.0
PRODID:-//WoltLab GmbH//WoltLab Suite Calendar 5.4//EN
CALSCALE:GREGORIAN
X-WR-CALNAME;VALUE=TEXT:Heimatfest in Stopfenheim
BEGIN:VEVENT
TRANSP:TRANSPARENT
UID:event-167@la-aktuell.de
URL:https://la-aktuell.de/calendar/event/171-heimatfest-in-stopfenheim/
DTSTART;VALUE=DATE:20170715
DTSTAMP:20170715T000000Z
CREATED:20170715T000000Z
SUMMARY:Heimatfest in Stopfenheim
LOCATION:Stopfenheim\, 91792 Ellingen\, Deutschland
GEO:49.0704918;10.8915138
DTEND;VALUE=DATE:20170718
CATEGORIES:Stopfenheim,Heimatfest
END:VEVENT
END:VCALENDAR
