BEGIN:VCALENDAR
METHOD:PUBLISH
VERSION:2.0
PRODID:-//WoltLab GmbH//WoltLab Suite Calendar 5.4//EN
CALSCALE:GREGORIAN
X-WR-CALNAME;VALUE=TEXT:Kirchweih in Neuenmuhr
BEGIN:VEVENT
TRANSP:TRANSPARENT
UID:event-168@la-aktuell.de
URL:https://la-aktuell.de/calendar/event/172-kirchweih-in-neuenmuhr/
DTSTART;VALUE=DATE:20170721
DTSTAMP:20170721T000000Z
CREATED:20170721T000000Z
SUMMARY:Kirchweih in Neuenmuhr
LOCATION:Weiherstraße 17\, 91735 Muhr am See\, Deutschland
GEO:49.1505203;10.7263498
DTEND;VALUE=DATE:20170725
CATEGORIES:Kirchweih,Neuenmuhr
END:VEVENT
END:VCALENDAR
