BEGIN:VCALENDAR
METHOD:PUBLISH
VERSION:2.0
PRODID:-//WoltLab GmbH//WoltLab Suite Calendar 5.4//EN
CALSCALE:GREGORIAN
X-WR-CALNAME;VALUE=TEXT:Feuerwehrfest Geislohe
BEGIN:VEVENT
TRANSP:TRANSPARENT
UID:event-170@la-aktuell.de
URL:https://la-aktuell.de/calendar/event/174-feuerwehrfest-geislohe/
DTSTART;VALUE=DATE:20170629
DTSTAMP:20170629T000000Z
CREATED:20170629T000000Z
SUMMARY:Feuerwehrfest Geislohe
DESCRIPTION:„Die Freiwillige Feuerwehr Geislohe feiert in der Zeit vom 29. 
 Juni bis 02. Juli 2017 ihr 120-jähriges Jubiläum. Die Planungen hierzu lauf
 en bereits seit einigen Jahren auf Hochtouren. Große Tafeln weisen auf das 
 anstehende Ereignis in Geislohe hin.\n\n\nDie Freiwillige Feuerwehr wurde i
 n dem Pappenheimer Ortsteil am 11. Mai 1897 gegründet. Anlässlich des anste
 henden Jubiläums wird der Verein - unter der Schirmherrschaft von Anita Rat
 hsam - 2017 ein viertägiges Feuerwehrfest veranstalten. \n\n  \n\nDen Aufta
 kt bildet am Donnerstag (29.06.2017) ein Kameradschaftsabend mit der Feuerw
 ehrkapelle Langenaltheim. Am Freitag (30.06.2017) wird die Treuchtlinger Hi
 p-Hop Formation „ALC und Band“ und anschließend Bayern3 DJ Tonic das Festze
 lt zum Toben bringen. Der Samstagabend (01.07.2017) wird mit dem Auftritt d
 er funk- und fernsehbekannten „Troglauer Buam“ rockig-traditionell\, wenn d
 ie \"Heavy Volxmusicer\" aus der Oberpfalz den Gästen einheizen. Höhepunkt 
 des Jubiläums wird der große Festumzug am Sonntag (02.07.2017). Im Anschlus
 s sorgt der in Geislohe bereits bekannte und beliebte Musiker \"Gagi\" aus 
 Alesheim für \"a Fetz´n Gaudi\" und wird dem Fest einen stimmungsvollen Abs
 chluss geben.\n\nEine besondere Attraktion des Festzuges wird eine antike S
 aug- und Druckspritze sein\, welche genauso alt wie die Geisloher Feuerwehr
  selbst ist und als Erinnerungsstück bestens gepflegt und in Ehren gehalten
  wurde. Ihr heutiges Feuerwehrauto erhielt die Wehr im Jahr 1975 und hatte 
 als kleinstes Grafendorf plötzlich das modernste Gerät von allen umliegende
 n Wehren.\n\nDieser heutige\, noch immer in Dienst befindliche Oldtimer die
 nte auch als Vorlage für die großen Hinweisschilder\, die im Ort aufgestell
 t wurden und jedem Wegreisenden das bevorstehende Großereignis ankündigen.“
 
LOCATION:Geislohe\, 91788 Pappenheim\, Deutschland
GEO:48.9639587;10.9844189
DTEND;VALUE=DATE:20170703
CATEGORIES:Feuerwehr,Geislohe,Feuerwehrfest
END:VEVENT
END:VCALENDAR
