BEGIN:VCALENDAR
METHOD:PUBLISH
VERSION:2.0
PRODID:-//WoltLab GmbH//WoltLab Suite Calendar 5.4//EN
CALSCALE:GREGORIAN
X-WR-CALNAME;VALUE=TEXT:Bartholomäus-Ritt - Walting
BEGIN:VEVENT
TRANSP:TRANSPARENT
UID:event-183@la-aktuell.de
URL:https://la-aktuell.de/calendar/event/187-bartholom%C3%A4us-ritt-walting
 /
DTSTART;VALUE=DATE:20170420
DTSTAMP:20170420T000000Z
CREATED:20170420T000000Z
SUMMARY:Bartholomäus-Ritt - Walting
LOCATION:85137 Walting\, Deutschland
GEO:48.9132271;11.2999659
DTEND;VALUE=DATE:20170421
CATEGORIES:Walting
END:VEVENT
END:VCALENDAR
