BEGIN:VCALENDAR
METHOD:PUBLISH
VERSION:2.0
PRODID:-//WoltLab GmbH//WoltLab Suite Calendar 5.4//EN
CALSCALE:GREGORIAN
X-WR-CALNAME;VALUE=TEXT:Valentinstag
BEGIN:VEVENT
TRANSP:TRANSPARENT
UID:event-208@la-aktuell.de
URL:https://la-aktuell.de/calendar/event/212-valentinstag/
DTSTART;VALUE=DATE:20190214
DTSTAMP:20190214T000000Z
CREATED:20190214T000000Z
SUMMARY:Valentinstag
DESCRIPTION:Alle Termine auf Schulferien.org - Ferien\, Feiertage\, Kalende
 r [URL:http://www.schulferien.org]
DTEND;VALUE=DATE:20190215
END:VEVENT
END:VCALENDAR
