BEGIN:VCALENDAR
METHOD:PUBLISH
VERSION:2.0
PRODID:-//WoltLab GmbH//WoltLab Suite Calendar 5.4//EN
CALSCALE:GREGORIAN
X-WR-CALNAME;VALUE=TEXT:Weltkindertag
BEGIN:VEVENT
TRANSP:TRANSPARENT
UID:event-235@la-aktuell.de
URL:https://la-aktuell.de/calendar/event/239-weltkindertag/
DTSTART;VALUE=DATE:20190920
DTSTAMP:20190920T000000Z
CREATED:20190920T000000Z
SUMMARY:Weltkindertag
DESCRIPTION:Alle Termine auf Schulferien.org - Ferien\, Feiertage\, Kalende
 r [URL:http://www.schulferien.org]
DTEND;VALUE=DATE:20190921
END:VEVENT
END:VCALENDAR
