BEGIN:VCALENDAR
METHOD:PUBLISH
VERSION:2.0
PRODID:-//WoltLab GmbH//WoltLab Suite Calendar 5.4//EN
CALSCALE:GREGORIAN
X-WR-CALNAME;VALUE=TEXT:Buß- und Bettag
BEGIN:VEVENT
TRANSP:TRANSPARENT
UID:event-24@la-aktuell.de
URL:https://la-aktuell.de/calendar/event/24-bu%C3%9F-und-bettag/
DTSTART;VALUE=DATE:20141119
DTSTAMP:20141119T000000Z
CREATED:20141119T000000Z
SUMMARY:Buß- und Bettag
DESCRIPTION:gesetzlicher Feiertag in Bayern\, Sachsen
END:VEVENT
END:VCALENDAR
