BEGIN:VCALENDAR
METHOD:PUBLISH
VERSION:2.0
PRODID:-//WoltLab GmbH//WoltLab Suite Calendar 5.4//EN
CALSCALE:GREGORIAN
X-WR-CALNAME;VALUE=TEXT:Volksfest Monheim
BEGIN:VEVENT
TRANSP:OPAQUE
UID:event-251@la-aktuell.de
URL:https://la-aktuell.de/calendar/event/255-volksfest-monheim/
DTSTART:20190524T130000Z
DTSTAMP:20190524T130000Z
CREATED:20190524T130000Z
SUMMARY:Volksfest Monheim
DESCRIPTION:Elf Jahre nach dem letzten Volksfest wird vom Freitag\, 24. Mai
  2019 bis zum Montag\, 27. Mai 2019 in Monheim wieder ein Volksfest auf dem
  Platz vor der Stadthalle Monheim stattfinden.\n\n\nGleichzeitig wird am Sa
 mstag\, 25. Mai und Sonntag\, 26. Mai 2019 in der Stadthalle und in der Dre
 ifachturnhalle die nächste Gewerbeausstellung ProMo organisiert.\n\nSchaust
 ellerbetrieb Ralf Kaufmann aus Bopfingen und Festwirt Christian Egerer aus 
 Pleinfeld haben sich gemeinsam für die Ausrichtung eines Volksfestes 2019 i
 n Monheim beworben.
LOCATION:Schulstraße 2\, 86653 Monheim\, Deutschland
GEO:48.8446465;10.8550768
DTEND:20190527T215900Z
CATEGORIES:Monheim,Volksfest,Gewerbeschau,ProMo 2019
END:VEVENT
END:VCALENDAR
