BEGIN:VCALENDAR
METHOD:PUBLISH
VERSION:2.0
PRODID:-//WoltLab GmbH//WoltLab Suite Calendar 5.4//EN
CALSCALE:GREGORIAN
X-WR-CALNAME;VALUE=TEXT:Öffentlicher Ausflug - Militärverein
BEGIN:VEVENT
TRANSP:TRANSPARENT
UID:event-254@la-aktuell.de
URL:https://la-aktuell.de/calendar/event/258-%C3%B6ffentlicher-ausflug-mili
 t%C3%A4rverein/
DTSTART;VALUE=DATE:20190511
DTSTAMP:20190511T000000Z
CREATED:20190511T000000Z
SUMMARY:Öffentlicher Ausflug - Militärverein
DESCRIPTION:Anfahrt über Augsburg - Landsberg a.L. - Buchlohe - unterwegs k
 urze Pause an einem Parkplatz mit WC - Marktoberdorf nach Hopferau - 10:30 
 Besichtigung der Schaukäserei Lehern (Dauer ca. 1 Std. - anschliessen Einka
 uf möglich) - weiter nach Hopferau am See - Aufenthalt und Mittagspause - N
 achmittags Weiterfahrt nach Füssen - dort verschiedene Möglichkeiten zur Pr
 ogrammgestaltung: Lechfall und Altstadtspaziergang\, Kurpark\, oder Aufenth
 alt im Walderlebnisszentrum Ziegelwies mit Baumkronenweg\, Erlebnispfaden s
 owie einer Dauerausstellung zu den Themen Bergwald\, Waldfunktionen\, Walda
 rbeiter und Imkerei - Rückfahrt nach Absprache über Schongau - Landsberg a.
 L. - Augsburg - auf Wunsch Abendessen im Raum Meitingen - Heimreise.\n\nFah
 rtpreis: 25 €uro/Person (Kinder bis 15 Jahre 10 €uro) - Abfahrt 07:00 Uhr b
 ei Omnibus Lotter Langenaltheim\nAnmeldung bis spätestens 27.04.2019 bei:\n
 \nFrank Hofmann\n\nKühgasse 6\n\nTel: Nummer auf Anfrage vom Admin hier\n\n
 oder\n\nMartin Jelinek\n\nGoethestr. 16\n\nTel: Nummer auf Anfrage vom Admi
 n hier\n\nFahrtpreis ist bei Anmeldung zu entrichten !\n\nZusätzliche Koste
 n:\n\nEintritt und Führung Käserei Lehern: 3\,- €/Person \n\n\nEintritt Bau
 mkronenweg: 4\,- €/Person\n\n\nhttps://www.sennerei-lehern.de/\n\n\n [URL:h
 ttps://omnibus-lotter.de/]
LOCATION:Hopferau\, Deutschland
GEO:47.6101265;10.6472607
DTEND;VALUE=DATE:20190512
CATEGORIES:Militärverein,Ausflug
END:VEVENT
END:VCALENDAR
