BEGIN:VCALENDAR
METHOD:PUBLISH
VERSION:2.0
PRODID:-//WoltLab GmbH//WoltLab Suite Calendar 5.4//EN
CALSCALE:GREGORIAN
X-WR-CALNAME;VALUE=TEXT:Gelber Sack
BEGIN:VEVENT
TRANSP:TRANSPARENT
UID:event-389@la-aktuell.de
URL:https://la-aktuell.de/calendar/event/393-gelber-sack/
DTSTART;VALUE=DATE:20200421
DTSTAMP:20200421T000000Z
CREATED:20200421T000000Z
SUMMARY:Gelber Sack
DESCRIPTION:Gelber Sack nicht vergessen!
LOCATION:Langenaltheim
DTEND;VALUE=DATE:20200422
END:VEVENT
END:VCALENDAR
