BEGIN:VCALENDAR
METHOD:PUBLISH
VERSION:2.0
PRODID:-//WoltLab GmbH//WoltLab Suite Calendar 5.4//EN
CALSCALE:GREGORIAN
X-WR-CALNAME;VALUE=TEXT:Gründonnerstag
BEGIN:VEVENT
TRANSP:TRANSPARENT
UID:event-45@la-aktuell.de
URL:https://la-aktuell.de/calendar/event/45-gr%C3%BCndonnerstag/
DTSTART;VALUE=DATE:20160324
DTSTAMP:20160324T000000Z
CREATED:20160324T000000Z
SUMMARY:Gründonnerstag
DESCRIPTION:gesetzlicher Feiertag in Baden-Württemberg
END:VEVENT
END:VCALENDAR
