BEGIN:VCALENDAR
METHOD:PUBLISH
VERSION:2.0
PRODID:-//WoltLab GmbH//WoltLab Suite Calendar 5.4//EN
CALSCALE:GREGORIAN
X-WR-CALNAME;VALUE=TEXT:Mariä Himmelfahrt
BEGIN:VEVENT
TRANSP:TRANSPARENT
UID:event-52@la-aktuell.de
URL:https://la-aktuell.de/calendar/event/52-mari%C3%A4-himmelfahrt/
DTSTART;VALUE=DATE:20160815
DTSTAMP:20160815T000000Z
CREATED:20160815T000000Z
SUMMARY:Mariä Himmelfahrt
DESCRIPTION:gesetzlicher Feiertag in Bayern\, Saarland
END:VEVENT
END:VCALENDAR
