BEGIN:VCALENDAR
METHOD:PUBLISH
VERSION:2.0
PRODID:-//WoltLab GmbH//WoltLab Suite Calendar 5.4//EN
CALSCALE:GREGORIAN
X-WR-CALNAME;VALUE=TEXT:Gelber Sack
BEGIN:VEVENT
TRANSP:TRANSPARENT
UID:event-556@la-aktuell.de
URL:https://la-aktuell.de/calendar/event/560-gelber-sack/
DTSTART;VALUE=DATE:20210219
DTSTAMP:20210219T000000Z
CREATED:20210219T000000Z
SUMMARY:Gelber Sack
DESCRIPTION:Gelber Sack nicht vergessen!
LOCATION:Langenaltheim
DTEND;VALUE=DATE:20210220
END:VEVENT
END:VCALENDAR
