BEGIN:VCALENDAR
METHOD:PUBLISH
VERSION:2.0
PRODID:-//WoltLab GmbH//WoltLab Suite Calendar 5.4//EN
CALSCALE:GREGORIAN
X-WR-CALNAME;VALUE=TEXT:A Klasse Süd - TSG Solnhofen 2 gegen TV 1896 Langen
 altheim
BEGIN:VEVENT
TRANSP:OPAQUE
UID:event-6@la-aktuell.de
URL:https://la-aktuell.de/calendar/event/6-a-klasse-s%C3%BCd-tsg-solnhofen-
 2-gegen-tv-1896-langenaltheim/
DTSTART:20140421T130000Z
DTSTAMP:20140421T130000Z
CREATED:20140421T130000Z
SUMMARY:A Klasse Süd - TSG Solnhofen 2 gegen TV 1896 Langenaltheim
DESCRIPTION:[Blockierte Grafik: http://www.langenaltheim-aktuell.de/akut/20
 14/april/tsg_solnhofen.gif]gegen[Blockierte Grafik: http://www.langenalthei
 m-aktuell.de/akut/2014/april/tv_langenaltheim.gif]\n\nA Klasse Süd Nachhols
 piel\n\nTSG Solnhofen gegen TV 1896 Langenaltheim\n\nDie Reserve des TV 189
 6 Langenaltheim ist Spielfrei\n\n[map]Solnhofen Bieswanger Weg 30[/map]
LOCATION:Bieswanger Weg 30\, 91807 Solnhofen\, Deutschland
GEO:48.8981285;11.0009375
DTEND:20140421T144500Z
CATEGORIES:Fussball,TV 1896 Langenaltheim,TSG Solnhofen
END:VEVENT
END:VCALENDAR
