BEGIN:VCALENDAR
METHOD:PUBLISH
VERSION:2.0
PRODID:-//WoltLab GmbH//WoltLab Suite Calendar 5.4//EN
CALSCALE:GREGORIAN
X-WR-CALNAME;VALUE=TEXT:Heilige Drei Könige
BEGIN:VEVENT
TRANSP:TRANSPARENT
UID:event-60@la-aktuell.de
URL:https://la-aktuell.de/calendar/event/60-heilige-drei-k%C3%B6nige/
DTSTART;VALUE=DATE:20170106
DTSTAMP:20170106T000000Z
CREATED:20170106T000000Z
SUMMARY:Heilige Drei Könige
DESCRIPTION:gesetzlicher Feiertag in Baden-Württemberg\, Bayern\, Sachsen-A
 nhalt
END:VEVENT
END:VCALENDAR
