BEGIN:VCALENDAR
METHOD:PUBLISH
VERSION:2.0
PRODID:-//WoltLab GmbH//WoltLab Suite Calendar 5.4//EN
CALSCALE:GREGORIAN
X-WR-CALNAME;VALUE=TEXT:Tag der Deutschen Einheit
BEGIN:VEVENT
TRANSP:TRANSPARENT
UID:event-645@la-aktuell.de
URL:https://la-aktuell.de/calendar/event/649-tag-der-deutschen-einheit/
DTSTART;VALUE=DATE:20211003
DTSTAMP:20211003T000000Z
CREATED:20211003T000000Z
SUMMARY:Tag der Deutschen Einheit
DESCRIPTION:Alle Termine auf http://www.schulferien.org
DTEND;VALUE=DATE:20211004
END:VEVENT
END:VCALENDAR
