BEGIN:VCALENDAR
METHOD:PUBLISH
VERSION:2.0
PRODID:-//WoltLab GmbH//WoltLab Suite Calendar 5.4//EN
CALSCALE:GREGORIAN
X-WR-CALNAME;VALUE=TEXT:Winterferien 2021 Bayern
BEGIN:VEVENT
TRANSP:TRANSPARENT
UID:event-648@la-aktuell.de
URL:https://la-aktuell.de/calendar/event/652-winterferien-2021-bayern/
DTSTART;VALUE=DATE:20210215
DTSTAMP:20210215T000000Z
CREATED:20210215T000000Z
SUMMARY:Winterferien 2021 Bayern
DESCRIPTION:Winterferien wurden aufgrund der Coronapandemie gestrichen
DTEND;VALUE=DATE:20210220
STATUS:CANCELLED
END:VEVENT
END:VCALENDAR
