BEGIN:VCALENDAR
METHOD:PUBLISH
VERSION:2.0
PRODID:-//WoltLab GmbH//WoltLab Suite Calendar 5.4//EN
CALSCALE:GREGORIAN
X-WR-CALNAME;VALUE=TEXT:Ostersonntag
BEGIN:VEVENT
TRANSP:TRANSPARENT
UID:event-654@la-aktuell.de
URL:https://la-aktuell.de/calendar/event/658-ostersonntag/
DTSTART;VALUE=DATE:20210404
DTSTAMP:20210404T000000Z
CREATED:20210404T000000Z
SUMMARY:Ostersonntag
DTEND;VALUE=DATE:20210405
CATEGORIES:Ostersonntag
END:VEVENT
END:VCALENDAR
