BEGIN:VCALENDAR
METHOD:PUBLISH
VERSION:2.0
PRODID:-//WoltLab GmbH//WoltLab Suite Calendar 5.4//EN
CALSCALE:GREGORIAN
X-WR-CALNAME;VALUE=TEXT:Neujahr
BEGIN:VEVENT
TRANSP:TRANSPARENT
UID:event-655@la-aktuell.de
URL:https://la-aktuell.de/calendar/event/659-neujahr/
DTSTART;VALUE=DATE:20220101
DTSTAMP:20220101T000000Z
CREATED:20220101T000000Z
SUMMARY:Neujahr
DESCRIPTION:Alle Termine auf http://www.schulferien.org
DTEND;VALUE=DATE:20220102
END:VEVENT
END:VCALENDAR
