BEGIN:VCALENDAR
METHOD:PUBLISH
VERSION:2.0
PRODID:-//WoltLab GmbH//WoltLab Suite Calendar 5.4//EN
CALSCALE:GREGORIAN
X-WR-CALNAME;VALUE=TEXT:Karsamstag
BEGIN:VEVENT
TRANSP:TRANSPARENT
UID:event-669@la-aktuell.de
URL:https://la-aktuell.de/calendar/event/673-karsamstag/
DTSTART;VALUE=DATE:20220416
DTSTAMP:20220416T000000Z
CREATED:20220416T000000Z
SUMMARY:Karsamstag
DESCRIPTION:Alle Termine auf http://www.schulferien.org
DTEND;VALUE=DATE:20220417
END:VEVENT
END:VCALENDAR
