BEGIN:VCALENDAR
METHOD:PUBLISH
VERSION:2.0
PRODID:-//WoltLab GmbH//WoltLab Suite Calendar 5.4//EN
CALSCALE:GREGORIAN
X-WR-CALNAME;VALUE=TEXT:Walpurgisnacht
BEGIN:VEVENT
TRANSP:TRANSPARENT
UID:event-679@la-aktuell.de
URL:https://la-aktuell.de/calendar/event/683-walpurgisnacht/
DTSTART;VALUE=DATE:20220430
DTSTAMP:20220430T000000Z
CREATED:20220430T000000Z
SUMMARY:Walpurgisnacht
DESCRIPTION:Alle Termine auf http://www.schulferien.org
DTEND;VALUE=DATE:20220501
END:VEVENT
END:VCALENDAR
