BEGIN:VCALENDAR
METHOD:PUBLISH
VERSION:2.0
PRODID:-//WoltLab GmbH//WoltLab Suite Calendar 5.4//EN
CALSCALE:GREGORIAN
X-WR-CALNAME;VALUE=TEXT:Pfingstsonntag
BEGIN:VEVENT
TRANSP:TRANSPARENT
UID:event-695@la-aktuell.de
URL:https://la-aktuell.de/calendar/event/699-pfingstsonntag/
DTSTART;VALUE=DATE:20220605
DTSTAMP:20220605T000000Z
CREATED:20220605T000000Z
SUMMARY:Pfingstsonntag
DESCRIPTION:Alle Termine auf http://www.schulferien.org
DTEND;VALUE=DATE:20220606
END:VEVENT
END:VCALENDAR
