BEGIN:VCALENDAR
METHOD:PUBLISH
VERSION:2.0
PRODID:-//WoltLab GmbH//WoltLab Suite Calendar 5.4//EN
CALSCALE:GREGORIAN
X-WR-CALNAME;VALUE=TEXT:Gelber Sack
BEGIN:VEVENT
TRANSP:TRANSPARENT
UID:event-827@la-aktuell.de
URL:https://la-aktuell.de/calendar/event/831-gelber-sack/
DTSTART;VALUE=DATE:20230424
DTSTAMP:20230424T000000Z
CREATED:20230424T000000Z
SUMMARY:Gelber Sack
DESCRIPTION:Gelber Sack nicht vergessen!
LOCATION:Langenaltheim
DTEND;VALUE=DATE:20230425
END:VEVENT
END:VCALENDAR
