BEGIN:VCALENDAR
METHOD:PUBLISH
VERSION:2.0
PRODID:-//WoltLab GmbH//WoltLab Suite Calendar 5.4//EN
CALSCALE:GREGORIAN
X-WR-CALNAME;VALUE=TEXT:Gelber Sack
BEGIN:VEVENT
TRANSP:TRANSPARENT
UID:event-877@la-aktuell.de
URL:https://la-aktuell.de/calendar/event/881-gelber-sack/
DTSTART;VALUE=DATE:20231024
DTSTAMP:20231024T000000Z
CREATED:20231024T000000Z
SUMMARY:Gelber Sack
DESCRIPTION:Gelber Sack nicht vergessen!
LOCATION:Langenaltheim
DTEND;VALUE=DATE:20231025
END:VEVENT
END:VCALENDAR
