BEGIN:VCALENDAR
METHOD:PUBLISH
VERSION:2.0
PRODID:-//WoltLab GmbH//WoltLab Suite Calendar 5.4//EN
CALSCALE:GREGORIAN
X-WR-CALNAME;VALUE=TEXT:Heilige Drei Könige
BEGIN:VEVENT
TRANSP:OPAQUE
UID:event-900@la-aktuell.de
URL:https://la-aktuell.de/calendar/event/904-heilige-drei-k%C3%B6nige/
DTSTART:20230105T230000Z
DTSTAMP:20230105T230000Z
CREATED:20230105T230000Z
SUMMARY:Heilige Drei Könige
DESCRIPTION:Der 06.01.2023 ist ein Feiertag in Baden-Württemberg\, Bayern u
 nd Sachsen-Anhalt.\n\nMehr zu Feiertagen unter:\n\nhttp://de-kalender.de/
DTEND:20230106T230000Z
END:VEVENT
END:VCALENDAR
