BEGIN:VCALENDAR
METHOD:PUBLISH
VERSION:2.0
PRODID:-//WoltLab GmbH//WoltLab Suite Calendar 5.4//EN
CALSCALE:GREGORIAN
X-WR-CALNAME;VALUE=TEXT:Waldtag in Wittesheim
BEGIN:VEVENT
TRANSP:OPAQUE
UID:event-92@la-aktuell.de
URL:https://la-aktuell.de/calendar/event/92-waldtag-in-wittesheim/
DTSTART:20141012T070000Z
DTSTAMP:20141012T070000Z
CREATED:20141012T070000Z
SUMMARY:Waldtag in Wittesheim
DESCRIPTION:[xattach=290\,left][/xattach]Weitere Infos in der News vom 07.1
 0.2014 Waldtag in Wittesheim [URL:http://www.langenaltheim-aktuell.de/news/
 index.php/News/99-Waldtag-in-Wittesheim/]
LOCATION:Unnamed Road\, 86653 Monheim\, Deutschland
GEO:48.8563805;10.8869867
DTEND:20141012T150000Z
CATEGORIES:Wittesheim
END:VEVENT
END:VCALENDAR
