BEGIN:VCALENDAR
METHOD:PUBLISH
VERSION:2.0
PRODID:-//WoltLab GmbH//WoltLab Suite Calendar 5.4//EN
CALSCALE:GREGORIAN
X-WR-CALNAME;VALUE=TEXT:Totensonntag
BEGIN:VEVENT
TRANSP:TRANSPARENT
UID:event-926@la-aktuell.de
URL:https://la-aktuell.de/calendar/event/930-totensonntag/
DTSTART;VALUE=DATE:20231126
DTSTAMP:20231126T000000Z
CREATED:20231126T000000Z
SUMMARY:Totensonntag
DESCRIPTION:Totensonntag ist kein gesetzlicher Feiertag.\n\nMehr zu Feierta
 gen unter:\n\nhttp://de-kalender.de/
DTEND;VALUE=DATE:20231127
END:VEVENT
END:VCALENDAR
