BEGIN:VCALENDAR
METHOD:PUBLISH
VERSION:2.0
PRODID:-//WoltLab GmbH//WoltLab Suite Calendar 5.4//EN
CALSCALE:GREGORIAN
X-WR-CALNAME;VALUE=TEXT:Pfingstmontag
BEGIN:VEVENT
TRANSP:TRANSPARENT
UID:event-945@la-aktuell.de
URL:https://la-aktuell.de/calendar/event/949-pfingstmontag/
DTSTART;VALUE=DATE:20240520
DTSTAMP:20240520T000000Z
CREATED:20240520T000000Z
SUMMARY:Pfingstmontag
DESCRIPTION:Alle Termine auf http://www.schulferien.org
DTEND;VALUE=DATE:20240521
END:VEVENT
END:VCALENDAR
