BEGIN:VCALENDAR
METHOD:PUBLISH
VERSION:2.0
PRODID:-//WoltLab GmbH//WoltLab Suite Calendar 5.4//EN
CALSCALE:GREGORIAN
X-WR-CALNAME;VALUE=TEXT:Gelber Sack
BEGIN:VEVENT
TRANSP:TRANSPARENT
UID:event-968@la-aktuell.de
URL:https://la-aktuell.de/calendar/event/972-gelber-sack/
DTSTART;VALUE=DATE:20240228
DTSTAMP:20240228T000000Z
CREATED:20240228T000000Z
SUMMARY:Gelber Sack
DESCRIPTION:Gelber Sack nicht vergessen!
LOCATION:Langenaltheim
DTEND;VALUE=DATE:20240229
END:VEVENT
END:VCALENDAR
